BEGIN:VCALENDAR
VERSION:2.0
PRODID:-//First Baptist Church Beverly - ECPv6.15.20//NONSGML v1.0//EN
CALSCALE:GREGORIAN
METHOD:PUBLISH
X-WR-CALNAME:First Baptist Church Beverly
X-ORIGINAL-URL:https://www.fbcbeverly.org
X-WR-CALDESC:Events for First Baptist Church Beverly
REFRESH-INTERVAL;VALUE=DURATION:PT1H
X-Robots-Tag:noindex
X-PUBLISHED-TTL:PT1H
BEGIN:VTIMEZONE
TZID:UTC
BEGIN:STANDARD
TZOFFSETFROM:+0000
TZOFFSETTO:+0000
TZNAME:UTC
DTSTART:20230101T000000
END:STANDARD
END:VTIMEZONE
BEGIN:VEVENT
DTSTART;TZID=UTC:20240514T190000
DTEND;TZID=UTC:20240514T190000
DTSTAMP:20260420T225050
CREATED:20220824T021420Z
LAST-MODIFIED:20220824T021420Z
UID:27220-1715713200-1715713200@www.fbcbeverly.org
SUMMARY:Harborlight Nursery School
DESCRIPTION:
URL:https://www.fbcbeverly.org/event/harborlight-nursery-school-virtual-meeting-2023-05-09-2024-05-14/
END:VEVENT
BEGIN:VEVENT
DTSTART;TZID=UTC:20240514T093000
DTEND;TZID=UTC:20240514T120000
DTSTAMP:20260420T225050
CREATED:20161031T184810Z
LAST-MODIFIED:20161031T184810Z
UID:23860-1715679000-1715688000@www.fbcbeverly.org
SUMMARY:Staff Meeting
DESCRIPTION:Our ministerial staff and leadership team meet weekly to ensure that communication is strong and that all aspects of the life and needs of the church are being attended to appropriately.
URL:https://www.fbcbeverly.org/event/staff-meeting-2-2024-05-14/
END:VEVENT
BEGIN:VEVENT
DTSTART;TZID=UTC:20240513T190000
DTEND;TZID=UTC:20240513T190000
DTSTAMP:20260420T225050
CREATED:20221018T110445Z
LAST-MODIFIED:20221018T110445Z
UID:26370-1715626800-1715626800@www.fbcbeverly.org
SUMMARY:Pickleball
DESCRIPTION:Every Monday night in the gym at 7:00 pm is Pickleball! \n 
URL:https://www.fbcbeverly.org/event/pickleball-2023-1-2-2023-09-25-2024-05-13/
END:VEVENT
BEGIN:VEVENT
DTSTART;TZID=UTC:20240513T180000
DTEND;TZID=UTC:20240513T200000
DTSTAMP:20260420T225050
CREATED:20170925T220024Z
LAST-MODIFIED:20170925T220024Z
UID:23859-1715623200-1715630400@www.fbcbeverly.org
SUMMARY:Monday Night Supper
DESCRIPTION:A meal will be served to anybody who needs it.
URL:https://www.fbcbeverly.org/event/monday-night-supper-2-2024-05-13/
END:VEVENT
BEGIN:VEVENT
DTSTART;TZID=UTC:20240513T160000
DTEND;TZID=UTC:20240513T170000
DTSTAMP:20260420T225050
CREATED:20240507T140415Z
LAST-MODIFIED:20240507T140415Z
UID:27222-1715616000-1715619600@www.fbcbeverly.org
SUMMARY:Lay Visitation Meeting
DESCRIPTION:
URL:https://www.fbcbeverly.org/event/lay-visitation-meeting-3/
END:VEVENT
BEGIN:VEVENT
DTSTART;TZID=UTC:20240512T113000
DTEND;TZID=UTC:20240512T123000
DTSTAMP:20260420T225050
CREATED:20231007T184714Z
LAST-MODIFIED:20231007T184714Z
UID:26426-1715513400-1715517000@www.fbcbeverly.org
SUMMARY:Word Searchers Adult Bible Study
DESCRIPTION:
URL:https://www.fbcbeverly.org/event/word-searchers-adult-bible-study-2024-05-12/
END:VEVENT
BEGIN:VEVENT
DTSTART;TZID=UTC:20240512T110000
DTEND;TZID=UTC:20240512T110000
DTSTAMP:20260420T225050
CREATED:20230208T133612Z
LAST-MODIFIED:20240515T031152Z
UID:26062-1715511600-1715511600@www.fbcbeverly.org
SUMMARY:Worship Ensemble Music Group Rehearsal
DESCRIPTION:Worship Ensemble music group will rehearse immediately following worship.
URL:https://www.fbcbeverly.org/event/worship-ensemble-music-group-rehearsal-2023-10-01-2024-05-12/
END:VEVENT
BEGIN:VEVENT
DTSTART;TZID=UTC:20240512T100000
DTEND;TZID=UTC:20240512T110000
DTSTAMP:20260420T225050
CREATED:20230612T103728Z
LAST-MODIFIED:20230612T103728Z
UID:25769-1715508000-1715511600@www.fbcbeverly.org
SUMMARY:Worship Service
DESCRIPTION:Join us for Worship on Sundays at the First Baptist Church in Beverly either in person or via our YouTube Livestream\, starting at 10:00 am!  The first Sunday of the month is Communion Sunday as you can see noted on our calendar.  Every Sunday we post our most recent worship services to our website page and have them highlighted on YouTube as well\, in case you can’t make it and would like to watch at your convenience.  Shalom and thanks for being here!
URL:https://www.fbcbeverly.org/event/worship-service-2024-05-12/
END:VEVENT
BEGIN:VEVENT
DTSTART;VALUE=DATE:20240512
DTEND;VALUE=DATE:20240513
DTSTAMP:20260420T225050
CREATED:20230817T114937Z
LAST-MODIFIED:20230817T114937Z
UID:26099-1715472000-1715558399@www.fbcbeverly.org
SUMMARY:Children & Youth Sunday
DESCRIPTION:
URL:https://www.fbcbeverly.org/event/children-youth-sunday-3/
END:VEVENT
BEGIN:VEVENT
DTSTART;TZID=UTC:20240511T133000
DTEND;TZID=UTC:20240511T153000
DTSTAMP:20260420T225050
CREATED:20240326T152916Z
LAST-MODIFIED:20240326T152916Z
UID:27073-1715434200-1715441400@www.fbcbeverly.org
SUMMARY:"Carnival of the Animals: Uncaged" Children's Concert presented by North Shore Philharmonic Orchestra
DESCRIPTION:The North Shore Philharmonic Orchestra (NSPO) is having a Children’s Concert at FBC on Saturday\, May 11\, 2024. There is an instrument petting zoo at 1:30 pm in the gym\, along with crafts\, and small student ensembles. At 3:00 pm the full orchestra will have a short concert in the FBC Sanctuary. ALL ages of children are invited although our preschool-age and early elementary school friends may especially enjoy this event! \nTickets are on sale now and can be purchased HERE.
URL:https://www.fbcbeverly.org/event/carnival-of-the-animals-uncaged-childrens-concert-presented-by-north-shore-philharmonic-orchestra/
END:VEVENT
BEGIN:VEVENT
DTSTART;TZID=UTC:20240511T123000
DTEND;TZID=UTC:20240511T133000
DTSTAMP:20260420T225050
CREATED:20231025T015152Z
LAST-MODIFIED:20240117T024449Z
UID:26529-1715430600-1715434200@www.fbcbeverly.org
SUMMARY:Lunch Program
DESCRIPTION:
URL:https://www.fbcbeverly.org/event/lunch-program-3-2024-05-11/
END:VEVENT
BEGIN:VEVENT
DTSTART;TZID=UTC:20240510T183000
DTEND;TZID=UTC:20240510T183000
DTSTAMP:20260420T225050
CREATED:20240422T101819Z
LAST-MODIFIED:20240422T101819Z
UID:27167-1715365800-1715365800@www.fbcbeverly.org
SUMMARY:We're enVisioning a Creative Women's Fellowship Event Tonight!
DESCRIPTION:We are happy to invite you for a Women’s Fellowship program on Friday\, May 10th beginning at 6:30 p.m. at Tracey Armstrong’s home. The program will involve creating Vision Boards. All supplies will be provided\, although if you have a favorite pair of scissors\, you are welcome to bring them along. Also if you have any photos of things that are important to you\, and which you are comfortable glueing or taping to your vision board\, bring those along as well.\n\nVision boards can be visual representations of goals\, and we will take a loose approach to our projects so you can make what feels right to you. You might want to create a self-care vision board for example\, or a personal growth vision board. We will collaborate and share everything you need to know for this fun and basic project.\n\nWe will have some munchies\, please feel free to bring something along if you have any specific food or drink requirements.\n\nWe look forward to seeing you and being together in community on Friday\, May 10th. Please RSVP to Pat by May 3rd at phaight@fbcbeverly.org  so we can prepare for supplies and snacks. Pat can also assist if you need directions.
URL:https://www.fbcbeverly.org/event/were-envisioning-a-creative-womens-fellowship-event-tonight/
END:VEVENT
BEGIN:VEVENT
DTSTART;TZID=UTC:20240509T193000
DTEND;TZID=UTC:20240509T203000
DTSTAMP:20260420T225050
CREATED:20161031T194009Z
LAST-MODIFIED:20161031T194009Z
UID:23843-1715283000-1715286600@www.fbcbeverly.org
SUMMARY:Sanctuary Choir
DESCRIPTION:The Sanctuary Vocal Choir meets weekly with Music Director Dr. Esther Chang for rehearsal in the Music Room\, and sings weekly in worship throughout the regular program year (September through June). Please contact Esther with questions or for more information.
URL:https://www.fbcbeverly.org/event/sanctuary-choir-2024-05-09/
END:VEVENT
BEGIN:VEVENT
DTSTART;TZID=UTC:20240509T180000
DTEND;TZID=UTC:20240509T190000
DTSTAMP:20260420T225050
CREATED:20170406T192545Z
LAST-MODIFIED:20170406T192545Z
UID:23844-1715277600-1715281200@www.fbcbeverly.org
SUMMARY:Bell Choirs
DESCRIPTION:The handbell choir(s) rehearse on Thursday evenings\, from 6:00 p.m. – 7:00 p.m. in the Chapel. Contact our Music Director\, Dr. Esther Chang for more information.
URL:https://www.fbcbeverly.org/event/celebration-ringers-2-2024-05-09/
END:VEVENT
BEGIN:VEVENT
DTSTART;TZID=UTC:20240508T183000
DTEND;TZID=UTC:20240508T200000
DTSTAMP:20260420T225050
CREATED:20240409T231450Z
LAST-MODIFIED:20240409T231450Z
UID:27127-1715193000-1715198400@www.fbcbeverly.org
SUMMARY:Coming Home: Learning to Trust & Accept Your Body
DESCRIPTION:
URL:https://www.fbcbeverly.org/event/coming-home-learning-to-trust-accept-your-body-2024-05-08/
END:VEVENT
BEGIN:VEVENT
DTSTART;TZID=UTC:20240507T200000
DTEND;TZID=UTC:20240507T200000
DTSTAMP:20260420T225050
CREATED:20220726T224128Z
LAST-MODIFIED:20220726T224128Z
UID:25654-1715112000-1715112000@www.fbcbeverly.org
SUMMARY:Theology On Tap!
DESCRIPTION:
URL:https://www.fbcbeverly.org/event/theology-on-tap-6-2024-05-07/
END:VEVENT
BEGIN:VEVENT
DTSTART;TZID=UTC:20240507T093000
DTEND;TZID=UTC:20240507T120000
DTSTAMP:20260420T225050
CREATED:20161031T184810Z
LAST-MODIFIED:20161031T184810Z
UID:23837-1715074200-1715083200@www.fbcbeverly.org
SUMMARY:Staff Meeting
DESCRIPTION:Our ministerial staff and leadership team meet weekly to ensure that communication is strong and that all aspects of the life and needs of the church are being attended to appropriately.
URL:https://www.fbcbeverly.org/event/staff-meeting-2-2024-05-07/
END:VEVENT
BEGIN:VEVENT
DTSTART;TZID=UTC:20240506T190000
DTEND;TZID=UTC:20240506T190000
DTSTAMP:20260420T225050
CREATED:20221018T110445Z
LAST-MODIFIED:20221018T110445Z
UID:26369-1715022000-1715022000@www.fbcbeverly.org
SUMMARY:Pickleball
DESCRIPTION:Every Monday night in the gym at 7:00 pm is Pickleball! \n 
URL:https://www.fbcbeverly.org/event/pickleball-2023-1-2-2023-09-25-2024-05-06/
END:VEVENT
BEGIN:VEVENT
DTSTART;TZID=UTC:20240506T180000
DTEND;TZID=UTC:20240506T200000
DTSTAMP:20260420T225050
CREATED:20170925T220024Z
LAST-MODIFIED:20170925T220024Z
UID:23836-1715018400-1715025600@www.fbcbeverly.org
SUMMARY:Monday Night Supper
DESCRIPTION:A meal will be served to anybody who needs it.
URL:https://www.fbcbeverly.org/event/monday-night-supper-2-2024-05-06/
END:VEVENT
BEGIN:VEVENT
DTSTART;TZID=UTC:20240505T113000
DTEND;TZID=UTC:20240505T123000
DTSTAMP:20260420T225050
CREATED:20231007T184714Z
LAST-MODIFIED:20231007T184714Z
UID:26425-1714908600-1714912200@www.fbcbeverly.org
SUMMARY:Word Searchers Adult Bible Study
DESCRIPTION:
URL:https://www.fbcbeverly.org/event/word-searchers-adult-bible-study-2024-05-05/
END:VEVENT
BEGIN:VEVENT
DTSTART;TZID=UTC:20240505T113000
DTEND;TZID=UTC:20240505T113000
DTSTAMP:20260420T225050
CREATED:20240207T150444Z
LAST-MODIFIED:20240207T150444Z
UID:26910-1714908600-1714908600@www.fbcbeverly.org
SUMMARY:Wholly Sustainable: Solar Panels Discussion Forum w/GB
DESCRIPTION:
URL:https://www.fbcbeverly.org/event/wholly-sustainable-solar-panels-discussion-forum-w-gb/
END:VEVENT
BEGIN:VEVENT
DTSTART;TZID=UTC:20240505T110000
DTEND;TZID=UTC:20240505T110000
DTSTAMP:20260420T225050
CREATED:20230208T133612Z
LAST-MODIFIED:20240515T031152Z
UID:26061-1714906800-1714906800@www.fbcbeverly.org
SUMMARY:Worship Ensemble Music Group Rehearsal
DESCRIPTION:Worship Ensemble music group will rehearse immediately following worship.
URL:https://www.fbcbeverly.org/event/worship-ensemble-music-group-rehearsal-2023-10-01-2024-05-05/
END:VEVENT
BEGIN:VEVENT
DTSTART;TZID=UTC:20240505T100000
DTEND;TZID=UTC:20240505T110000
DTSTAMP:20260420T225050
CREATED:20230612T103728Z
LAST-MODIFIED:20230612T103728Z
UID:25768-1714903200-1714906800@www.fbcbeverly.org
SUMMARY:Worship Service
DESCRIPTION:Join us for Worship on Sundays at the First Baptist Church in Beverly either in person or via our YouTube Livestream\, starting at 10:00 am!  The first Sunday of the month is Communion Sunday as you can see noted on our calendar.  Every Sunday we post our most recent worship services to our website page and have them highlighted on YouTube as well\, in case you can’t make it and would like to watch at your convenience.  Shalom and thanks for being here!
URL:https://www.fbcbeverly.org/event/worship-service-2024-05-05/
END:VEVENT
BEGIN:VEVENT
DTSTART;VALUE=DATE:20240505
DTEND;VALUE=DATE:20240506
DTSTAMP:20260420T225050
CREATED:20230927T013232Z
LAST-MODIFIED:20251030T155826Z
UID:26560-1714867200-1714953599@www.fbcbeverly.org
SUMMARY:Communion Sunday
DESCRIPTION:
URL:https://www.fbcbeverly.org/event/communion-sunday-2-2024-05-05/
END:VEVENT
BEGIN:VEVENT
DTSTART;TZID=UTC:20240504T130000
DTEND;TZID=UTC:20240504T130000
DTSTAMP:20260420T225050
CREATED:20240403T065908Z
LAST-MODIFIED:20240403T065908Z
UID:27107-1714827600-1714827600@www.fbcbeverly.org
SUMMARY:World Labyrinth Day Walk at FBC
DESCRIPTION:Walk FBC’s labyrinth in a meditation for world peace.  We will walk creating a unified rolling wave of peaceful energy passing from one time zone to the next around the globe in celebration of World Labyrinth Day at 1:00 pm.
URL:https://www.fbcbeverly.org/event/world-labyrinth-day-walk-at-fbc/
END:VEVENT
BEGIN:VEVENT
DTSTART;TZID=UTC:20240504T123000
DTEND;TZID=UTC:20240504T133000
DTSTAMP:20260420T225050
CREATED:20231025T015152Z
LAST-MODIFIED:20240117T024448Z
UID:26528-1714825800-1714829400@www.fbcbeverly.org
SUMMARY:Lunch Program
DESCRIPTION:
URL:https://www.fbcbeverly.org/event/lunch-program-3-2024-05-04/
END:VEVENT
BEGIN:VEVENT
DTSTART;TZID=UTC:20240504T084500
DTEND;TZID=UTC:20240504T121500
DTSTAMP:20260420T225050
CREATED:20240403T065728Z
LAST-MODIFIED:20240403T065728Z
UID:27106-1714812300-1714824900@www.fbcbeverly.org
SUMMARY:Service Saturday at FBC
DESCRIPTION:Join together with us as we spend the morning volunteering together locally. Choose from a variety of service projects from within our church building as well as in the Beverly community from 8:45 am – 12:15 pm.
URL:https://www.fbcbeverly.org/event/service-saturday-at-fbc/
END:VEVENT
BEGIN:VEVENT
DTSTART;TZID=UTC:20240503T180000
DTEND;TZID=UTC:20240503T203000
DTSTAMP:20260420T225050
CREATED:20240411T171825Z
LAST-MODIFIED:20240411T171825Z
UID:27136-1714759200-1714768200@www.fbcbeverly.org
SUMMARY:Parents' Night Out!
DESCRIPTION:
URL:https://www.fbcbeverly.org/event/parents-night-out-15/
END:VEVENT
BEGIN:VEVENT
DTSTART;TZID=UTC:20240502T193000
DTEND;TZID=UTC:20240502T203000
DTSTAMP:20260420T225050
CREATED:20161031T194009Z
LAST-MODIFIED:20161031T194009Z
UID:23803-1714678200-1714681800@www.fbcbeverly.org
SUMMARY:Sanctuary Choir
DESCRIPTION:The Sanctuary Vocal Choir meets weekly with Music Director Dr. Esther Chang for rehearsal in the Music Room\, and sings weekly in worship throughout the regular program year (September through June). Please contact Esther with questions or for more information.
URL:https://www.fbcbeverly.org/event/sanctuary-choir-2024-05-02/
END:VEVENT
BEGIN:VEVENT
DTSTART;TZID=UTC:20240502T180000
DTEND;TZID=UTC:20240502T190000
DTSTAMP:20260420T225050
CREATED:20170406T192545Z
LAST-MODIFIED:20170406T192545Z
UID:23804-1714672800-1714676400@www.fbcbeverly.org
SUMMARY:Bell Choirs
DESCRIPTION:The handbell choir(s) rehearse on Thursday evenings\, from 6:00 p.m. – 7:00 p.m. in the Chapel. Contact our Music Director\, Dr. Esther Chang for more information.
URL:https://www.fbcbeverly.org/event/celebration-ringers-2-2024-05-02/
END:VEVENT
END:VCALENDAR