BEGIN:VCALENDAR
VERSION:2.0
PRODID:-//First Baptist Church Beverly - ECPv6.15.20//NONSGML v1.0//EN
CALSCALE:GREGORIAN
METHOD:PUBLISH
X-ORIGINAL-URL:https://www.fbcbeverly.org
X-WR-CALDESC:Events for First Baptist Church Beverly
REFRESH-INTERVAL;VALUE=DURATION:PT1H
X-Robots-Tag:noindex
X-PUBLISHED-TTL:PT1H
BEGIN:VTIMEZONE
TZID:UTC
BEGIN:STANDARD
TZOFFSETFROM:+0000
TZOFFSETTO:+0000
TZNAME:UTC
DTSTART:20250101T000000
END:STANDARD
END:VTIMEZONE
BEGIN:VEVENT
DTSTART;TZID=UTC:20260518T080000
DTEND;TZID=UTC:20260518T170000
DTSTAMP:20260424T083638
CREATED:20170715T135109Z
LAST-MODIFIED:20170715T135109Z
UID:27253-1779091200-1779123600@www.fbcbeverly.org
SUMMARY:Social Concerns Meeting
DESCRIPTION:
URL:https://www.fbcbeverly.org/event/social-concerns-meeting-2017-11-13-2018-10-08-2026-05-18/
END:VEVENT
BEGIN:VEVENT
DTSTART;TZID=UTC:20260518T180000
DTEND;TZID=UTC:20260518T200000
DTSTAMP:20260424T083638
CREATED:20170925T220024Z
LAST-MODIFIED:20170925T220024Z
UID:27255-1779127200-1779134400@www.fbcbeverly.org
SUMMARY:Monday Night Supper
DESCRIPTION:A meal will be served to anybody who needs it.
URL:https://www.fbcbeverly.org/event/monday-night-supper-2-2026-05-18/
END:VEVENT
BEGIN:VEVENT
DTSTART;TZID=UTC:20260518T190000
DTEND;TZID=UTC:20260518T190000
DTSTAMP:20260424T083638
CREATED:20250602T165443Z
LAST-MODIFIED:20250602T165443Z
UID:29013-1779130800-1779130800@www.fbcbeverly.org
SUMMARY:Pickleball
DESCRIPTION:7 o’clock in the FBC Gym!
URL:https://www.fbcbeverly.org/event/pickleball-33-2026-05-18/
END:VEVENT
BEGIN:VEVENT
DTSTART;TZID=UTC:20260519T093000
DTEND;TZID=UTC:20260519T120000
DTSTAMP:20260424T083638
CREATED:20161031T184810Z
LAST-MODIFIED:20161031T184810Z
UID:27260-1779183000-1779192000@www.fbcbeverly.org
SUMMARY:Staff Meeting
DESCRIPTION:Our ministerial staff and leadership team meet weekly to ensure that communication is strong and that all aspects of the life and needs of the church are being attended to appropriately.
URL:https://www.fbcbeverly.org/event/staff-meeting-2-2026-05-19/
END:VEVENT
BEGIN:VEVENT
DTSTART;TZID=UTC:20260520T193000
DTEND;TZID=UTC:20260520T203000
DTSTAMP:20260424T083638
CREATED:20220207T142747Z
LAST-MODIFIED:20220207T142747Z
UID:27261-1779305400-1779309000@www.fbcbeverly.org
SUMMARY:Trustees of Endowment
DESCRIPTION:
URL:https://www.fbcbeverly.org/event/trustees-of-endowment-7-2022-06-08-2026-05-20/
END:VEVENT
BEGIN:VEVENT
DTSTART;TZID=UTC:20260521T100000
DTEND;TZID=UTC:20260521T110000
DTSTAMP:20260424T083638
CREATED:20250827T133721Z
LAST-MODIFIED:20250827T133721Z
UID:29156-1779357600-1779361200@www.fbcbeverly.org
SUMMARY:Zoom Coffee Hour
DESCRIPTION:Come and gather around the virtual table on Thursday at 10:00 am for a time of connection\, laughter\, reflection\, fellowship\, and sharing! There is always room for more to gather\, so come and pull up a chair with us!
URL:https://www.fbcbeverly.org/event/zoom-coffee-hour-4-2026-05-21/
END:VEVENT
BEGIN:VEVENT
DTSTART;TZID=UTC:20260521T180000
DTEND;TZID=UTC:20260521T190000
DTSTAMP:20260424T083638
CREATED:20170406T192545Z
LAST-MODIFIED:20170406T192545Z
UID:27266-1779386400-1779390000@www.fbcbeverly.org
SUMMARY:Bell Choirs
DESCRIPTION:The handbell choir(s) rehearse on Thursday evenings\, from 6:00 p.m. – 7:00 p.m. in the Chapel. Contact our Music Director\, Dr. Esther Chang for more information.
URL:https://www.fbcbeverly.org/event/celebration-ringers-2-2026-05-21/
END:VEVENT
BEGIN:VEVENT
DTSTART;TZID=UTC:20260521T193000
DTEND;TZID=UTC:20260521T203000
DTSTAMP:20260424T083638
CREATED:20161031T194009Z
LAST-MODIFIED:20161031T194009Z
UID:27265-1779391800-1779395400@www.fbcbeverly.org
SUMMARY:Sanctuary Choir
DESCRIPTION:The Sanctuary Vocal Choir meets weekly with Music Director Dr. Esther Chang for rehearsal in the Music Room\, and sings weekly in worship throughout the regular program year (September through June). Please contact Esther with questions or for more information.
URL:https://www.fbcbeverly.org/event/sanctuary-choir-2026-05-21/
END:VEVENT
BEGIN:VEVENT
DTSTART;TZID=UTC:20260522T170000
DTEND;TZID=UTC:20260522T180000
DTSTAMP:20260424T083638
CREATED:20250903T143844Z
LAST-MODIFIED:20250903T143844Z
UID:29230-1779469200-1779472800@www.fbcbeverly.org
SUMMARY:Lectio Divina
DESCRIPTION:Join us in person or via Zoom at https://us02web.zoom.us/j/87637952236?pwd=cXY0cHB3QncxOEY4Y2FlUWVzb1pBUT09!
URL:https://www.fbcbeverly.org/event/lectio-divina-13-2026-05-22/
END:VEVENT
BEGIN:VEVENT
DTSTART;TZID=UTC:20260524T110000
DTEND;TZID=UTC:20260524T110000
DTSTAMP:20260424T083638
CREATED:20230208T133612Z
LAST-MODIFIED:20230208T133612Z
UID:29338-1779620400-1779620400@www.fbcbeverly.org
SUMMARY:Worship Ensemble Rehearsal
DESCRIPTION:Worship Ensemble music group will rehearse immediately following worship.
URL:https://www.fbcbeverly.org/event/worship-ensemble-music-group-rehearsal-2023-10-01-2024-06-02-2026-05-24/
END:VEVENT
BEGIN:VEVENT
DTSTART;TZID=UTC:20260524T113000
DTEND;TZID=UTC:20260524T113000
DTSTAMP:20260424T083638
CREATED:20250903T144236Z
LAST-MODIFIED:20250903T144236Z
UID:29300-1779622200-1779622200@www.fbcbeverly.org
SUMMARY:Prayer Shawl Meets
DESCRIPTION:
URL:https://www.fbcbeverly.org/event/prayer-shawl-meets-2026-05-24/
END:VEVENT
BEGIN:VEVENT
DTSTART;TZID=UTC:20260524T113000
DTEND;TZID=UTC:20260524T123000
DTSTAMP:20260424T083638
CREATED:20250903T144639Z
LAST-MODIFIED:20250909T183713Z
UID:29278-1779622200-1779625800@www.fbcbeverly.org
SUMMARY:Word Searchers
DESCRIPTION:
URL:https://www.fbcbeverly.org/event/word-searchers-11-2026-05-24/
END:VEVENT
BEGIN:VEVENT
DTSTART;TZID=UTC:20260524T160000
DTEND;TZID=UTC:20260524T180000
DTSTAMP:20260424T083638
CREATED:20250814T002120Z
LAST-MODIFIED:20250814T002120Z
UID:29052-1779638400-1779645600@www.fbcbeverly.org
SUMMARY:Middle School Fellowship
DESCRIPTION:
URL:https://www.fbcbeverly.org/event/middle-school-fellowship-3-2026-05-24/
END:VEVENT
BEGIN:VEVENT
DTSTART;TZID=UTC:20260524T180000
DTEND;TZID=UTC:20260524T210000
DTSTAMP:20260424T083638
CREATED:20250814T002222Z
LAST-MODIFIED:20250814T002222Z
UID:29090-1779645600-1779656400@www.fbcbeverly.org
SUMMARY:Senior High Fellowship
DESCRIPTION:
URL:https://www.fbcbeverly.org/event/senior-high-fellowship-2-2026-05-24/
END:VEVENT
BEGIN:VEVENT
DTSTART;TZID=UTC:20260525T180000
DTEND;TZID=UTC:20260525T200000
DTSTAMP:20260424T083638
CREATED:20170925T220024Z
LAST-MODIFIED:20170925T220024Z
UID:27288-1779732000-1779739200@www.fbcbeverly.org
SUMMARY:Monday Night Supper
DESCRIPTION:A meal will be served to anybody who needs it.
URL:https://www.fbcbeverly.org/event/monday-night-supper-2-2026-05-25/
END:VEVENT
BEGIN:VEVENT
DTSTART;TZID=UTC:20260525T183000
DTEND;TZID=UTC:20260525T183000
DTSTAMP:20260424T083638
CREATED:20250831T205401Z
LAST-MODIFIED:20250831T205401Z
UID:29186-1779733800-1779733800@www.fbcbeverly.org
SUMMARY:Church Home Meeting
DESCRIPTION:
URL:https://www.fbcbeverly.org/event/church-home-meeting-8-2026-05-25/
END:VEVENT
BEGIN:VEVENT
DTSTART;TZID=UTC:20260525T190000
DTEND;TZID=UTC:20260525T190000
DTSTAMP:20260424T083638
CREATED:20250602T165443Z
LAST-MODIFIED:20250602T165443Z
UID:29014-1779735600-1779735600@www.fbcbeverly.org
SUMMARY:Pickleball
DESCRIPTION:7 o’clock in the FBC Gym!
URL:https://www.fbcbeverly.org/event/pickleball-33-2026-05-25/
END:VEVENT
BEGIN:VEVENT
DTSTART;TZID=UTC:20260525T190000
DTEND;TZID=UTC:20260525T190000
DTSTAMP:20260424T083638
CREATED:20250831T205218Z
LAST-MODIFIED:20250831T205218Z
UID:29177-1779735600-1779735600@www.fbcbeverly.org
SUMMARY:Missions & Social Concerns Meeting (MiSC)
DESCRIPTION:
URL:https://www.fbcbeverly.org/event/missions-social-concerns-meeting-misc-6-2026-05-25/
END:VEVENT
BEGIN:VEVENT
DTSTART;TZID=UTC:20260526T093000
DTEND;TZID=UTC:20260526T120000
DTSTAMP:20260424T083638
CREATED:20161031T184810Z
LAST-MODIFIED:20161031T184810Z
UID:27291-1779787800-1779796800@www.fbcbeverly.org
SUMMARY:Staff Meeting
DESCRIPTION:Our ministerial staff and leadership team meet weekly to ensure that communication is strong and that all aspects of the life and needs of the church are being attended to appropriately.
URL:https://www.fbcbeverly.org/event/staff-meeting-2-2026-05-26/
END:VEVENT
BEGIN:VEVENT
DTSTART;TZID=UTC:20260526T190000
DTEND;TZID=UTC:20260526T200000
DTSTAMP:20260424T083638
CREATED:20170715T132748Z
LAST-MODIFIED:20170715T132748Z
UID:27290-1779822000-1779825600@www.fbcbeverly.org
SUMMARY:Deacons Meeting
DESCRIPTION:
URL:https://www.fbcbeverly.org/event/deacons-meeting-2026-05-26/
END:VEVENT
BEGIN:VEVENT
DTSTART;TZID=UTC:20260527T190000
DTEND;TZID=UTC:20260527T190000
DTSTAMP:20260424T083638
CREATED:20260422T133625Z
LAST-MODIFIED:20260422T133625Z
UID:29878-1779908400-1779908400@www.fbcbeverly.org
SUMMARY:All-Church Annual Meeting
DESCRIPTION:
URL:https://www.fbcbeverly.org/event/all-church-annual-meeting-2/
END:VEVENT
BEGIN:VEVENT
DTSTART;TZID=UTC:20260528T100000
DTEND;TZID=UTC:20260528T110000
DTSTAMP:20260424T083638
CREATED:20250827T133721Z
LAST-MODIFIED:20250827T133721Z
UID:29157-1779962400-1779966000@www.fbcbeverly.org
SUMMARY:Zoom Coffee Hour
DESCRIPTION:Come and gather around the virtual table on Thursday at 10:00 am for a time of connection\, laughter\, reflection\, fellowship\, and sharing! There is always room for more to gather\, so come and pull up a chair with us!
URL:https://www.fbcbeverly.org/event/zoom-coffee-hour-4-2026-05-28/
END:VEVENT
BEGIN:VEVENT
DTSTART;TZID=UTC:20260528T180000
DTEND;TZID=UTC:20260528T190000
DTSTAMP:20260424T083638
CREATED:20170406T192545Z
LAST-MODIFIED:20170406T192545Z
UID:27298-1779991200-1779994800@www.fbcbeverly.org
SUMMARY:Bell Choirs
DESCRIPTION:The handbell choir(s) rehearse on Thursday evenings\, from 6:00 p.m. – 7:00 p.m. in the Chapel. Contact our Music Director\, Dr. Esther Chang for more information.
URL:https://www.fbcbeverly.org/event/celebration-ringers-2-2026-05-28/
END:VEVENT
BEGIN:VEVENT
DTSTART;TZID=UTC:20260528T190000
DTEND;TZID=UTC:20260528T190000
DTSTAMP:20260424T083638
CREATED:20260317T160642Z
LAST-MODIFIED:20260408T134333Z
UID:29802-1779994800-1779994800@www.fbcbeverly.org
SUMMARY:Spiritual Resilience for Difficult Times: Beverly Farms Branch Library
DESCRIPTION:
URL:https://www.fbcbeverly.org/event/spiritual-resilience-for-difficult-times-beverly-farms-branch-library-2/
END:VEVENT
BEGIN:VEVENT
DTSTART;TZID=UTC:20260528T193000
DTEND;TZID=UTC:20260528T203000
DTSTAMP:20260424T083638
CREATED:20161031T194009Z
LAST-MODIFIED:20161031T194009Z
UID:27297-1779996600-1780000200@www.fbcbeverly.org
SUMMARY:Sanctuary Choir
DESCRIPTION:The Sanctuary Vocal Choir meets weekly with Music Director Dr. Esther Chang for rehearsal in the Music Room\, and sings weekly in worship throughout the regular program year (September through June). Please contact Esther with questions or for more information.
URL:https://www.fbcbeverly.org/event/sanctuary-choir-2026-05-28/
END:VEVENT
BEGIN:VEVENT
DTSTART;TZID=UTC:20260529T170000
DTEND;TZID=UTC:20260529T180000
DTSTAMP:20260424T083638
CREATED:20250903T143844Z
LAST-MODIFIED:20250903T143844Z
UID:29231-1780074000-1780077600@www.fbcbeverly.org
SUMMARY:Lectio Divina
DESCRIPTION:Join us in person or via Zoom at https://us02web.zoom.us/j/87637952236?pwd=cXY0cHB3QncxOEY4Y2FlUWVzb1pBUT09!
URL:https://www.fbcbeverly.org/event/lectio-divina-13-2026-05-29/
END:VEVENT
BEGIN:VEVENT
DTSTART;TZID=UTC:20260531T110000
DTEND;TZID=UTC:20260531T110000
DTSTAMP:20260424T083638
CREATED:20230208T133612Z
LAST-MODIFIED:20230208T133612Z
UID:29339-1780225200-1780225200@www.fbcbeverly.org
SUMMARY:Worship Ensemble Rehearsal
DESCRIPTION:Worship Ensemble music group will rehearse immediately following worship.
URL:https://www.fbcbeverly.org/event/worship-ensemble-music-group-rehearsal-2023-10-01-2024-06-02-2026-05-31/
END:VEVENT
BEGIN:VEVENT
DTSTART;TZID=UTC:20260531T160000
DTEND;TZID=UTC:20260531T180000
DTSTAMP:20260424T083638
CREATED:20250814T002120Z
LAST-MODIFIED:20250814T002120Z
UID:29053-1780243200-1780250400@www.fbcbeverly.org
SUMMARY:Middle School Fellowship
DESCRIPTION:
URL:https://www.fbcbeverly.org/event/middle-school-fellowship-3-2026-05-31/
END:VEVENT
BEGIN:VEVENT
DTSTART;TZID=UTC:20260531T180000
DTEND;TZID=UTC:20260531T210000
DTSTAMP:20260424T083638
CREATED:20250814T002222Z
LAST-MODIFIED:20250814T002222Z
UID:29091-1780250400-1780261200@www.fbcbeverly.org
SUMMARY:Senior High Fellowship
DESCRIPTION:
URL:https://www.fbcbeverly.org/event/senior-high-fellowship-2-2026-05-31/
END:VEVENT
BEGIN:VEVENT
DTSTART;TZID=UTC:20260601T160000
DTEND;TZID=UTC:20260601T160000
DTSTAMP:20260424T083638
CREATED:20161031T185828Z
LAST-MODIFIED:20260113T161522Z
UID:27048-1780329600-1780329600@www.fbcbeverly.org
SUMMARY:Lay Visitation Committee
DESCRIPTION:First Baptist’s Lay Visitation Ministry Team provides a ministry of visitation\, caring\, listening\, prayer\, and comfort to the church family and the wider community. This group meets monthly\, on the second Monday of each month\, for training\, reflection\, sharing\, and to receive new ministry assignments. New members are always welcome to the Team.
URL:https://www.fbcbeverly.org/event/lay-visitation-ministry-2017-08-01-2026-03-17/
END:VEVENT
END:VCALENDAR