BEGIN:VCALENDAR
VERSION:2.0
PRODID:-//First Baptist Church Beverly - ECPv6.15.20//NONSGML v1.0//EN
CALSCALE:GREGORIAN
METHOD:PUBLISH
X-ORIGINAL-URL:https://www.fbcbeverly.org
X-WR-CALDESC:Events for First Baptist Church Beverly
REFRESH-INTERVAL;VALUE=DURATION:PT1H
X-Robots-Tag:noindex
X-PUBLISHED-TTL:PT1H
BEGIN:VTIMEZONE
TZID:UTC
BEGIN:STANDARD
TZOFFSETFROM:+0000
TZOFFSETTO:+0000
TZNAME:UTC
DTSTART:20230101T000000
END:STANDARD
END:VTIMEZONE
BEGIN:VEVENT
DTSTART;TZID=UTC:20240619T193000
DTEND;TZID=UTC:20240619T203000
DTSTAMP:20260424T100909
CREATED:20220207T142747Z
LAST-MODIFIED:20220207T142747Z
UID:23979-1718825400-1718829000@www.fbcbeverly.org
SUMMARY:Trustees of Endowment
DESCRIPTION:
URL:https://www.fbcbeverly.org/event/trustees-of-endowment-7-2022-06-08-2024-06-19/
END:VEVENT
BEGIN:VEVENT
DTSTART;TZID=UTC:20240620T180000
DTEND;TZID=UTC:20240620T180000
DTSTAMP:20260424T100909
CREATED:20240620T180344Z
LAST-MODIFIED:20240620T180344Z
UID:27391-1718906400-1718906400@www.fbcbeverly.org
SUMMARY:Bee Event at FBC for Pollinator Week
DESCRIPTION:
URL:https://www.fbcbeverly.org/event/bee-event-at-fbc-for-pollinator-week/
END:VEVENT
BEGIN:VEVENT
DTSTART;TZID=UTC:20240622T120000
DTEND;TZID=UTC:20240622T120000
DTSTAMP:20260424T100909
CREATED:20240529T095738Z
LAST-MODIFIED:20240529T095738Z
UID:27296-1719057600-1719057600@www.fbcbeverly.org
SUMMARY:FBC Walking in North Shore Pride Parade
DESCRIPTION:Everyone is invited to join us as a group walking in the North Shore Pride Parade (the parade starts at Noon\, so we would plan to meet in Salem at Shetland Park by 11:15 a.m.). You might recall from attending or seeing the photos from last year\, but this community event is fun for ALL ages\, and we would love to have families\, individuals\, everyone all come join! We would like to have a general sense of our group size for the parade\, so people can email Julie if you plan on joining!
URL:https://www.fbcbeverly.org/event/fbc-walking-in-north-shore-pride-parade/
END:VEVENT
BEGIN:VEVENT
DTSTART;TZID=UTC:20240622T123000
DTEND;TZID=UTC:20240622T133000
DTSTAMP:20260424T100909
CREATED:20231025T015152Z
LAST-MODIFIED:20240117T024455Z
UID:26535-1719059400-1719063000@www.fbcbeverly.org
SUMMARY:Lunch Program
DESCRIPTION:
URL:https://www.fbcbeverly.org/event/lunch-program-3-2024-06-22/
END:VEVENT
BEGIN:VEVENT
DTSTART;TZID=UTC:20240623T100000
DTEND;TZID=UTC:20240623T110000
DTSTAMP:20260424T100909
CREATED:20230612T103728Z
LAST-MODIFIED:20230612T103728Z
UID:25775-1719136800-1719140400@www.fbcbeverly.org
SUMMARY:Worship Service
DESCRIPTION:Join us for Worship on Sundays at the First Baptist Church in Beverly either in person or via our YouTube Livestream\, starting at 10:00 am!  The first Sunday of the month is Communion Sunday as you can see noted on our calendar.  Every Sunday we post our most recent worship services to our website page and have them highlighted on YouTube as well\, in case you can’t make it and would like to watch at your convenience.  Shalom and thanks for being here!
URL:https://www.fbcbeverly.org/event/worship-service-2024-06-23/
END:VEVENT
BEGIN:VEVENT
DTSTART;TZID=UTC:20240623T113000
DTEND;TZID=UTC:20240623T123000
DTSTAMP:20260424T100909
CREATED:20240620T175936Z
LAST-MODIFIED:20240620T175936Z
UID:27386-1719142200-1719145800@www.fbcbeverly.org
SUMMARY:Final Youth Class of the Program Year!
DESCRIPTION:
URL:https://www.fbcbeverly.org/event/final-youth-class-of-the-program-year/
END:VEVENT
BEGIN:VEVENT
DTSTART;TZID=UTC:20240623T153000
DTEND;TZID=UTC:20240623T173000
DTSTAMP:20260424T100909
CREATED:20240523T144720Z
LAST-MODIFIED:20240529T104831Z
UID:27276-1719156600-1719163800@www.fbcbeverly.org
SUMMARY:RIM Fundraising Walk
DESCRIPTION:  \nJoin us at 3:30 p.m. beginning at 1 Church St.\, Wakefield\, MA as we support this year’s Annual R.I.M. Fundraising Walk (start time is 4:00 p.m.)! FBC members can participate in two ways: (1) by walking and encouraging others to sponsor you (contact Barbara Brann-Weir for details) and (2) by donating to sponsor someone who is already walking\, using FBC’s R.I.M. Walk fundraising page available HERE.
URL:https://www.fbcbeverly.org/event/rim-fundraising-walk/
END:VEVENT
BEGIN:VEVENT
DTSTART;TZID=UTC:20240623T161500
DTEND;TZID=UTC:20240623T171500
DTSTAMP:20260424T100909
CREATED:20240523T144340Z
LAST-MODIFIED:20240523T144340Z
UID:27275-1719159300-1719162900@www.fbcbeverly.org
SUMMARY:Inquiry Class
DESCRIPTION:
URL:https://www.fbcbeverly.org/event/inquiry-class-2-2024-06-23/
END:VEVENT
BEGIN:VEVENT
DTSTART;TZID=UTC:20240624T180000
DTEND;TZID=UTC:20240624T200000
DTSTAMP:20260424T100909
CREATED:20170925T220024Z
LAST-MODIFIED:20170925T220024Z
UID:24004-1719252000-1719259200@www.fbcbeverly.org
SUMMARY:Monday Night Supper
DESCRIPTION:A meal will be served to anybody who needs it.
URL:https://www.fbcbeverly.org/event/monday-night-supper-2-2024-06-24/
END:VEVENT
BEGIN:VEVENT
DTSTART;TZID=UTC:20240625T190000
DTEND;TZID=UTC:20240625T200000
DTSTAMP:20260424T100909
CREATED:20170715T132748Z
LAST-MODIFIED:20170715T132748Z
UID:24005-1719342000-1719345600@www.fbcbeverly.org
SUMMARY:Deacons Meeting
DESCRIPTION:
URL:https://www.fbcbeverly.org/event/deacons-meeting-2024-06-25/
END:VEVENT
BEGIN:VEVENT
DTSTART;TZID=UTC:20240628T190000
DTEND;TZID=UTC:20240628T210000
DTSTAMP:20260424T100909
CREATED:20240214T122441Z
LAST-MODIFIED:20240523T150830Z
UID:26928-1719601200-1719608400@www.fbcbeverly.org
SUMMARY:Riverside Renaissance Swing Band Concert: Part II!
DESCRIPTION:Our friends from RRSB are back to perform from 7:00-9:00 p.m. for their second benefit concert here at FBC\, all proceeds benefiting exploited women through Amirah. Tickets will run $20/Adults\, $15 for Seniors 65+\, Kids 10-18 are FREE!
URL:https://www.fbcbeverly.org/event/riverside-renaissance-swing-band-concert-part-ii/
END:VEVENT
BEGIN:VEVENT
DTSTART;TZID=UTC:20240629T123000
DTEND;TZID=UTC:20240629T133000
DTSTAMP:20260424T100909
CREATED:20231025T015152Z
LAST-MODIFIED:20240117T024456Z
UID:26536-1719664200-1719667800@www.fbcbeverly.org
SUMMARY:Lunch Program
DESCRIPTION:
URL:https://www.fbcbeverly.org/event/lunch-program-3-2024-06-29/
END:VEVENT
BEGIN:VEVENT
DTSTART;TZID=UTC:20240629T173000
DTEND;TZID=UTC:20240629T193000
DTSTAMP:20260424T100909
CREATED:20240620T180818Z
LAST-MODIFIED:20240626T135936Z
UID:27394-1719682200-1719689400@www.fbcbeverly.org
SUMMARY:Casual Beach Dinner Meet-Up!
DESCRIPTION:Come out and see what happens when you gather at the beach with church friends and family and nothing to do.  Except maybe eat (items for the grill provided by the church\, plus whatever others may bring to share)\, talk\, play games\, dip toes in the water\, and soak up the sun! Drop in at Dane Street Beach anytime between 5:00 and 8:00 pm for a fun and “boring” time with FBC!
URL:https://www.fbcbeverly.org/event/casual-beach-dinner-meet-up/
END:VEVENT
BEGIN:VEVENT
DTSTART;TZID=UTC:20240630T100000
DTEND;TZID=UTC:20240630T110000
DTSTAMP:20260424T100909
CREATED:20230612T103728Z
LAST-MODIFIED:20230612T103728Z
UID:25776-1719741600-1719745200@www.fbcbeverly.org
SUMMARY:Worship Service
DESCRIPTION:Join us for Worship on Sundays at the First Baptist Church in Beverly either in person or via our YouTube Livestream\, starting at 10:00 am!  The first Sunday of the month is Communion Sunday as you can see noted on our calendar.  Every Sunday we post our most recent worship services to our website page and have them highlighted on YouTube as well\, in case you can’t make it and would like to watch at your convenience.  Shalom and thanks for being here!
URL:https://www.fbcbeverly.org/event/worship-service-2024-06-30/
END:VEVENT
BEGIN:VEVENT
DTSTART;TZID=UTC:20240701T180000
DTEND;TZID=UTC:20240701T200000
DTSTAMP:20260424T100909
CREATED:20170925T220024Z
LAST-MODIFIED:20170925T220024Z
UID:24044-1719856800-1719864000@www.fbcbeverly.org
SUMMARY:Monday Night Supper
DESCRIPTION:A meal will be served to anybody who needs it.
URL:https://www.fbcbeverly.org/event/monday-night-supper-2-2024-07-01/
END:VEVENT
BEGIN:VEVENT
DTSTART;TZID=UTC:20240702T200000
DTEND;TZID=UTC:20240702T200000
DTSTAMP:20260424T100909
CREATED:20240624T103700Z
LAST-MODIFIED:20240624T103700Z
UID:27407-1719950400-1719950400@www.fbcbeverly.org
SUMMARY:Theology On Tap
DESCRIPTION:July 2nd – Theology on Tap @ Kitchen Table in Beverly 8 p.m.
URL:https://www.fbcbeverly.org/event/theology-on-tap-7/
END:VEVENT
BEGIN:VEVENT
DTSTART;VALUE=DATE:20240704
DTEND;VALUE=DATE:20240706
DTSTAMP:20260424T100909
CREATED:20240626T140547Z
LAST-MODIFIED:20240626T140547Z
UID:27431-1720051200-1720223999@www.fbcbeverly.org
SUMMARY:Church Office Closed for Fourth of July Holiday
DESCRIPTION:
URL:https://www.fbcbeverly.org/event/church-office-closed-for-fourth-of-july-holiday/
END:VEVENT
BEGIN:VEVENT
DTSTART;TZID=UTC:20240706T123000
DTEND;TZID=UTC:20240706T133000
DTSTAMP:20260424T100909
CREATED:20231025T015152Z
LAST-MODIFIED:20240117T024457Z
UID:26537-1720269000-1720272600@www.fbcbeverly.org
SUMMARY:Lunch Program
DESCRIPTION:
URL:https://www.fbcbeverly.org/event/lunch-program-3-2024-07-06/
END:VEVENT
BEGIN:VEVENT
DTSTART;VALUE=DATE:20240707
DTEND;VALUE=DATE:20240708
DTSTAMP:20260424T100909
CREATED:20230927T013232Z
LAST-MODIFIED:20230927T013232Z
UID:26562-1720310400-1720396799@www.fbcbeverly.org
SUMMARY:Communion Sunday
DESCRIPTION:
URL:https://www.fbcbeverly.org/event/communion-sunday-2-2024-07-07/
END:VEVENT
BEGIN:VEVENT
DTSTART;TZID=UTC:20240707T100000
DTEND;TZID=UTC:20240707T110000
DTSTAMP:20260424T100909
CREATED:20230612T103728Z
LAST-MODIFIED:20230612T103728Z
UID:25777-1720346400-1720350000@www.fbcbeverly.org
SUMMARY:Worship Service
DESCRIPTION:Join us for Worship on Sundays at the First Baptist Church in Beverly either in person or via our YouTube Livestream\, starting at 10:00 am!  The first Sunday of the month is Communion Sunday as you can see noted on our calendar.  Every Sunday we post our most recent worship services to our website page and have them highlighted on YouTube as well\, in case you can’t make it and would like to watch at your convenience.  Shalom and thanks for being here!
URL:https://www.fbcbeverly.org/event/worship-service-2024-07-07/
END:VEVENT
BEGIN:VEVENT
DTSTART;TZID=UTC:20240708T180000
DTEND;TZID=UTC:20240708T200000
DTSTAMP:20260424T100909
CREATED:20170925T220024Z
LAST-MODIFIED:20170925T220024Z
UID:24063-1720461600-1720468800@www.fbcbeverly.org
SUMMARY:Monday Night Supper
DESCRIPTION:A meal will be served to anybody who needs it.
URL:https://www.fbcbeverly.org/event/monday-night-supper-2-2024-07-08/
END:VEVENT
BEGIN:VEVENT
DTSTART;TZID=UTC:20240709T183000
DTEND;TZID=UTC:20240709T183000
DTSTAMP:20260424T100910
CREATED:20240620T180236Z
LAST-MODIFIED:20240707T154625Z
UID:27387-1720549800-1720549800@www.fbcbeverly.org
SUMMARY:Summer Book Group
DESCRIPTION:There will be a book group jointly led by Julie and Daniel meeting on Tuesdays in July reading Reclaiming Conversation: The Power of Talk in a Digital Age by Sherry Turkle. We will have copies of the book on hand for people who wish to pick one up from us (there is a suggested donation of $18 to help cover their cost) or\, of course\, folks can find a copy at a bookstore of their choice or the local library!
URL:https://www.fbcbeverly.org/event/summer-book-group/
END:VEVENT
BEGIN:VEVENT
DTSTART;TZID=UTC:20240712T183000
DTEND;TZID=UTC:20240712T183000
DTSTAMP:20260424T100910
CREATED:20240705T131500Z
LAST-MODIFIED:20240705T131500Z
UID:27454-1720809000-1720809000@www.fbcbeverly.org
SUMMARY:Young Adults FBC Group Hangout!
DESCRIPTION:On Friday July 12th at 6:30pm the Young Adults group will get together for their first group hangout. The event is a potluck held here at FBC\, so if you’re in your 20’s and 30’s and you’d like to get to know other young adults in the congregation\, bring your favorite dish and swing by! We’re excited to get to know you!
URL:https://www.fbcbeverly.org/event/young-adults-fbc-group-hangout/
END:VEVENT
BEGIN:VEVENT
DTSTART;TZID=UTC:20240713T123000
DTEND;TZID=UTC:20240713T133000
DTSTAMP:20260424T100910
CREATED:20231025T015152Z
LAST-MODIFIED:20240117T024458Z
UID:26538-1720873800-1720877400@www.fbcbeverly.org
SUMMARY:Lunch Program
DESCRIPTION:
URL:https://www.fbcbeverly.org/event/lunch-program-3-2024-07-13/
END:VEVENT
BEGIN:VEVENT
DTSTART;TZID=UTC:20240714T100000
DTEND;TZID=UTC:20240714T110000
DTSTAMP:20260424T100910
CREATED:20230612T103728Z
LAST-MODIFIED:20230612T103728Z
UID:25778-1720951200-1720954800@www.fbcbeverly.org
SUMMARY:Worship Service
DESCRIPTION:Join us for Worship on Sundays at the First Baptist Church in Beverly either in person or via our YouTube Livestream\, starting at 10:00 am!  The first Sunday of the month is Communion Sunday as you can see noted on our calendar.  Every Sunday we post our most recent worship services to our website page and have them highlighted on YouTube as well\, in case you can’t make it and would like to watch at your convenience.  Shalom and thanks for being here!
URL:https://www.fbcbeverly.org/event/worship-service-2024-07-14/
END:VEVENT
BEGIN:VEVENT
DTSTART;TZID=UTC:20240714T120000
DTEND;TZID=UTC:20240714T120000
DTSTAMP:20260424T100910
CREATED:20240624T103817Z
LAST-MODIFIED:20240624T103817Z
UID:27408-1720958400-1720958400@www.fbcbeverly.org
SUMMARY:Tidepooling Meetup (& lunch!) at Lynch Park
DESCRIPTION:July 14th – Tidepooling Meetup at Lynch Park @ noon (wear your beach shoes and come ready for some low tide exploration and discovery! Meet at the Rose Garden entrance so we can all walk over to the tide pools together. Lunch provided!)
URL:https://www.fbcbeverly.org/event/tidepooling-meetup-lunch-at-lynch-park/
END:VEVENT
BEGIN:VEVENT
DTSTART;TZID=UTC:20240715T180000
DTEND;TZID=UTC:20240715T200000
DTSTAMP:20260424T100910
CREATED:20170925T220024Z
LAST-MODIFIED:20170925T220024Z
UID:24079-1721066400-1721073600@www.fbcbeverly.org
SUMMARY:Monday Night Supper
DESCRIPTION:A meal will be served to anybody who needs it.
URL:https://www.fbcbeverly.org/event/monday-night-supper-2-2024-07-15/
END:VEVENT
BEGIN:VEVENT
DTSTART;TZID=UTC:20240716T070000
DTEND;TZID=UTC:20240716T070000
DTSTAMP:20260424T100910
CREATED:20240708T162745Z
LAST-MODIFIED:20240708T163030Z
UID:27463-1721113200-1721113200@www.fbcbeverly.org
SUMMARY:FBC's T3 Men's Fellowship Breakfast
DESCRIPTION:
URL:https://www.fbcbeverly.org/event/fbcs-t3-mens-fellowship-breakfast/
END:VEVENT
BEGIN:VEVENT
DTSTART;TZID=UTC:20240716T183000
DTEND;TZID=UTC:20240716T183000
DTSTAMP:20260424T100910
CREATED:20240620T180236Z
LAST-MODIFIED:20240707T154626Z
UID:27437-1721154600-1721154600@www.fbcbeverly.org
SUMMARY:Summer Book Group
DESCRIPTION:There will be a book group jointly led by Julie and Daniel meeting on Tuesdays in July reading Reclaiming Conversation: The Power of Talk in a Digital Age by Sherry Turkle. We will have copies of the book on hand for people who wish to pick one up from us (there is a suggested donation of $18 to help cover their cost) or\, of course\, folks can find a copy at a bookstore of their choice or the local library!
URL:https://www.fbcbeverly.org/event/summer-book-group-2024-07-16/
END:VEVENT
BEGIN:VEVENT
DTSTART;TZID=UTC:20240717T193000
DTEND;TZID=UTC:20240717T203000
DTSTAMP:20260424T100910
CREATED:20220207T142747Z
LAST-MODIFIED:20220207T142747Z
UID:24083-1721244600-1721248200@www.fbcbeverly.org
SUMMARY:Trustees of Endowment
DESCRIPTION:
URL:https://www.fbcbeverly.org/event/trustees-of-endowment-7-2022-06-08-2024-07-17/
END:VEVENT
END:VCALENDAR