BEGIN:VCALENDAR
VERSION:2.0
PRODID:-//First Baptist Church Beverly - ECPv6.15.20//NONSGML v1.0//EN
CALSCALE:GREGORIAN
METHOD:PUBLISH
X-WR-CALNAME:First Baptist Church Beverly
X-ORIGINAL-URL:https://www.fbcbeverly.org
X-WR-CALDESC:Events for First Baptist Church Beverly
REFRESH-INTERVAL;VALUE=DURATION:PT1H
X-Robots-Tag:noindex
X-PUBLISHED-TTL:PT1H
BEGIN:VTIMEZONE
TZID:UTC
BEGIN:STANDARD
TZOFFSETFROM:+0000
TZOFFSETTO:+0000
TZNAME:UTC
DTSTART:20180101T000000
END:STANDARD
END:VTIMEZONE
BEGIN:VEVENT
DTSTART;TZID=UTC:20190217T143000
DTEND;TZID=UTC:20190217T143000
DTSTAMP:20260420T171100
CREATED:20190206T190243Z
LAST-MODIFIED:20190206T190243Z
UID:11465-1550413800-1550413800@www.fbcbeverly.org
SUMMARY:Fellowship Parents Meeting
DESCRIPTION:Join us for this opportunity to connect with Fellowship leaders! We hope this meeting will help form a strong connection with you and your Middle Schooler\, and share some of what’s happening in Middle School Fellowship AND answer your questions\, as well!\nThis meeting will wrap up in an hour or less to give time to get your Middle Schooler to the church for an afternoon of movies from 4pm to 6pm.\nPlease RSVP to Julie by emailing jflowers@fbcbeverly.org if you can attend.
URL:https://www.fbcbeverly.org/event/fellowship-parents-meeting/
END:VEVENT
BEGIN:VEVENT
DTSTART;VALUE=DATE:20190218
DTEND;VALUE=DATE:20190219
DTSTAMP:20260420T171100
CREATED:20190206T192624Z
LAST-MODIFIED:20190206T192624Z
UID:11588-1550448000-1550534399@www.fbcbeverly.org
SUMMARY:Presidents' Day: Church Offices Closed
DESCRIPTION:
URL:https://www.fbcbeverly.org/event/presidents-day-church-offices-closed/
END:VEVENT
BEGIN:VEVENT
DTSTART;TZID=UTC:20190219T190000
DTEND;TZID=UTC:20190219T190000
DTSTAMP:20260420T171100
CREATED:20190206T183532Z
LAST-MODIFIED:20190206T183532Z
UID:11460-1550602800-1550602800@www.fbcbeverly.org
SUMMARY:Church Council
DESCRIPTION:
URL:https://www.fbcbeverly.org/event/church-council-4/
END:VEVENT
BEGIN:VEVENT
DTSTART;TZID=UTC:20190225T190000
DTEND;TZID=UTC:20190225T190000
DTSTAMP:20260420T171100
CREATED:20190206T193628Z
LAST-MODIFIED:20190206T193628Z
UID:11591-1551121200-1551121200@www.fbcbeverly.org
SUMMARY:Missions Committee
DESCRIPTION:
URL:https://www.fbcbeverly.org/event/missions-committee/
END:VEVENT
BEGIN:VEVENT
DTSTART;TZID=UTC:20190301T180000
DTEND;TZID=UTC:20190301T200000
DTSTAMP:20260420T171100
CREATED:20190214T140638Z
LAST-MODIFIED:20190214T140638Z
UID:11629-1551463200-1551470400@www.fbcbeverly.org
SUMMARY:Intergenerational Fun Night
DESCRIPTION:Join us for Intergenerational Fun Night @ FBC Gym \n\n\n\n\nMarch 1st\, Friday 6 – 8 p.m. Pizza and Beverages followed by Pickle Ball (hitting a ball with paddles over a low net for points) plus\, fun mixer games with our giant Kin-Ball. Feel free to bring a favorite board game for those who like to go at a slower pace!  Perfect event to invite a friend and get to know some new people. Last time\, our age range was 5 – 75\, saving a place for you!
URL:https://www.fbcbeverly.org/event/intergenerational-fun-night/
END:VEVENT
BEGIN:VEVENT
DTSTART;TZID=UTC:20190305T180000
DTEND;TZID=UTC:20190305T180000
DTSTAMP:20260420T171100
CREATED:20190301T142918Z
LAST-MODIFIED:20190301T142918Z
UID:12060-1551808800-1551808800@www.fbcbeverly.org
SUMMARY:Family Promise Dinner
DESCRIPTION:
URL:https://www.fbcbeverly.org/event/family-promise-dinner-2/
END:VEVENT
BEGIN:VEVENT
DTSTART;TZID=UTC:20190305T180000
DTEND;TZID=UTC:20190305T180000
DTSTAMP:20260420T171100
CREATED:20190301T143047Z
LAST-MODIFIED:20190301T143047Z
UID:12062-1551808800-1551808800@www.fbcbeverly.org
SUMMARY:Shelter Fest Meeting
DESCRIPTION:
URL:https://www.fbcbeverly.org/event/shelter-fest-meeting-2/
END:VEVENT
BEGIN:VEVENT
DTSTART;TZID=UTC:20190306T120000
DTEND;TZID=UTC:20190306T120000
DTSTAMP:20260420T171100
CREATED:20190301T143654Z
LAST-MODIFIED:20190301T143654Z
UID:12066-1551873600-1551873600@www.fbcbeverly.org
SUMMARY:Ash Wednesday Service at St. Peter's Episcopal Church in Beverly
DESCRIPTION:FBC gathers with Saint Peter’s Episcopal Church\, 8 Ocean Street in Beverly to receive the ashes\, an ancient symbol reminding us to be humble before God\, the Source from which we come and to which we will return.
URL:https://www.fbcbeverly.org/event/ash-wednesday-service-at-st-peters-episcopal-church-in-beverly/
CATEGORIES:Holiday Service
END:VEVENT
BEGIN:VEVENT
DTSTART;TZID=UTC:20190309T113000
DTEND;TZID=UTC:20190309T113000
DTSTAMP:20260420T171100
CREATED:20190306T212743Z
LAST-MODIFIED:20190306T212743Z
UID:12159-1552131000-1552131000@www.fbcbeverly.org
SUMMARY:Chapel Choir
DESCRIPTION:If you’ve ever entertained the thought of joining the choir\, but hesitated because of the difficulty of the pieces that our sanctuary choir sings\, this new group may be for you.\n\nChapel Choir is led by FBC’s director of music\, Esther Chang\, and meets each Saturday at 11:30am for a 30 to 45-minute rehearsal. The music Esther chooses will be simpler in style and the choir will sing in worship only about once a month. This will give the new choir members the opportunity to be well-prepared and ready to share beautiful music with the congregation.\n\nIf you want more information or are ready to sign up for the new choir\, contact Esther at  echang@fbcbeverly.org
URL:https://www.fbcbeverly.org/event/chapel-choir/
END:VEVENT
BEGIN:VEVENT
DTSTART;TZID=UTC:20190309T160000
DTEND;TZID=UTC:20190309T220000
DTSTAMP:20260420T171100
CREATED:20181211T010829Z
LAST-MODIFIED:20181211T010829Z
UID:10732-1552147200-1552168800@www.fbcbeverly.org
SUMMARY:North Shore Shelter Fest
DESCRIPTION:Shelter Fest Benefit Concert to Support Affordable Housing North of Boston \nTickets: http://buytickets.at/fbcbeverly/235961 \nNow in its second year\, North Shore Shelter Fest\, a live-performance music festival\, will be held in downtown Beverly on Saturday\, March 9 to benefit Harborlight Community Partners (HCP)\, which provides affordable housing in nine North Shore communities. \n  \nThe event will bring a lineup of talented local and regional rock\, soul and popular-music bands and performers to the First Baptist Church on Cabot Street in Beverly for a day of music from 4:00 p.m. – 10:00 p.m. The First Baptist Church in Beverly has a long tradition of service to those in need and founded the housing effort now known as HCP. The concert will take place in the church’s massive sanctuary. \n  \nHeadlining the 2019 Shelter Fest lineup is Barrence Whitfield\, nationally respected rock-and-soul frontman who calls the North Shore his home. Since bursting onto the Boston music scene in the 1980s\, Whitfield earned a reputation as an energetic live performer in the spirit of Little Richard\, Wilson Pickett and Solomon Burke. \n  \nGeneral admission of a $10 donation provides all evening access–and all proceeds will support the programs of Harborlight Community Partners (HCP)\, https://harborlightcp.org/ As the region’s oldest and largest not-for-profit provider of affordable housing\, HCP currently owns\, manages\, or supports 367 housing units providing home for over 500 people. \n  \nHCP provides affordable housing for families\, elders\, those with disabilities\, and formerly homeless adults. By focusing on the housing needs of the region’s increasingly underserved population and creating\, preserving and operating safe\, affordable housing with supportive services\, HCP makes homes available to all North Shore neighbors\, regardless of means. \nParking for the event is available in nearby municipal lots and food & refreshments will be available for purchase on site. \nMore information on HCP https://www.facebook.com/pg/HarborlightCP/ on the First Baptist Church https://www.fbcbeverly.org/ and on the North Shore Shelter Fest Facebook Page https://www.facebook.com/NorthShoreShelterFest/ \n \n  \nEarly Program – 4:00 pm \nAcademy at Penguin Hall “Ruby Slippers” \nBeverly High School Jazz Band \nSweet Escape \nLate Program – 6:00 pm \nThe Band Next Door \nDave Bailin & the Bailouts \nExit 18 \nSalem Wolves \nBarrence Whitfield \n \nMore information on band lineup here:\nNorth Shore Shelter Fest Bands Lineup
URL:https://www.fbcbeverly.org/event/north-shore-shelter-fest/
END:VEVENT
BEGIN:VEVENT
DTSTART;VALUE=DATE:20190310
DTEND;VALUE=DATE:20190311
DTSTAMP:20260420T171100
CREATED:20190301T145226Z
LAST-MODIFIED:20190301T145226Z
UID:12070-1552176000-1552262399@www.fbcbeverly.org
SUMMARY:Daylight Savings Time Begins
DESCRIPTION:
URL:https://www.fbcbeverly.org/event/daylight-savings-time-begins/
END:VEVENT
BEGIN:VEVENT
DTSTART;TZID=UTC:20190310T090000
DTEND;TZID=UTC:20190310T215000
DTSTAMP:20260420T171100
CREATED:20190209T140837Z
LAST-MODIFIED:20190209T140837Z
UID:11605-1552208400-1552254600@www.fbcbeverly.org
SUMMARY:Yoga - Spiritual Moments and Movement
DESCRIPTION:Yoga – Spiritual Moments and Movement\nDates: March 10\, April 7\, May 26\nTime: 9:00-9:50am\nJoin FBC one Sunday per month for Yoga – Spiritual Moments and Movement.\nPlease bring water and a Yoga Mat. Childcare is available during this time. Class is appropriate for Middle School age and up.\nYoga Participants should be able to get up and down from the floor safely without assistance. All participants will sign a basic fitness waiver and must disclose any injuries or physical concerns related to gentle exercise movements.\nIn the future\, we may offer a “Chair Yoga Option” for this class – stay tuned!\nClass will be gentle\, spiritually connective and restorative – this is not a physically demanding Yoga.\nWe will connect a unique theme each month through the practice of stretching\, lengthening and breath awareness. This is a wonderful opportunity to experience a physical expression and honoring of our spirituality though the joy of basic movement; body and heart opening.\nClass will begin and end with a mindful tuning into our bodies\, hearts and spirits.
URL:https://www.fbcbeverly.org/event/yoga-spiritual-moments-and-movement-2/
END:VEVENT
BEGIN:VEVENT
DTSTART;TZID=UTC:20190310T112000
DTEND;TZID=UTC:20190310T112000
DTSTAMP:20260420T171100
CREATED:20190301T151331Z
LAST-MODIFIED:20190301T151331Z
UID:12088-1552216800-1552216800@www.fbcbeverly.org
SUMMARY:Lenten Poetry and Spiritual Practices
DESCRIPTION:Each Sunday through Lent: March 10 – April 14 (with the exception of March 24th) at 11:20\, Bryan Vosseler will host a lively and creative discussion on how poetry can expand the heart and mind. Bryan has selected poems that complement our theme ‘In the Garden’ along with spiritual practices that connect with the poems wisdom and the movement of the Spirit. Bryan offers: “I hope these poems and practices will fertilize your own spiritual garden.”
URL:https://www.fbcbeverly.org/event/lenten-poetry-and-spiritual-practices/
END:VEVENT
BEGIN:VEVENT
DTSTART;TZID=UTC:20190310T143000
DTEND;TZID=UTC:20190310T160000
DTSTAMP:20260420T171100
CREATED:20190312T205422Z
LAST-MODIFIED:20190312T205422Z
UID:12186-1552228200-1552233600@www.fbcbeverly.org
SUMMARY:Baptism Class for Grades 8 and Up
DESCRIPTION:Starts Sunday\, March 10th\, from 2:30 – 4 p.m. and will run weekly throughout Lent.\n\nDuring this class time together\, the group will explore more about the stories of Jesus and learn more about his life\, and what it might mean to make the decision to follow him and walk through the waters of baptism; we will learn more about the Bible and its history and context and how it came to be compiled; we will learn about what it means to be an American Baptist and more about First Baptist Church in Beverly\, specifically. At the end of the class\, all participants will have the opportunity to decide whether they feel ready and called to make a public profession of faith and walk through the waters of baptism on Easter morning (one of the most beautiful and moving rituals and practices of the Baptist church)!\n\nRev. Julie Flowers will be leading the Baptism Class. She can be reached by email at jflowers@fbcbeverly.org or by phone at 978-922-3295.
URL:https://www.fbcbeverly.org/event/baptism-class-for-grades-8-and-up/
END:VEVENT
BEGIN:VEVENT
DTSTART;TZID=UTC:20190312T190000
DTEND;TZID=UTC:20190312T190000
DTSTAMP:20260420T171100
CREATED:20190301T145258Z
LAST-MODIFIED:20190301T145258Z
UID:12073-1552417200-1552417200@www.fbcbeverly.org
SUMMARY:Staff Administration Meeting
DESCRIPTION:
URL:https://www.fbcbeverly.org/event/staff-administration-meeting-4/
END:VEVENT
BEGIN:VEVENT
DTSTART;TZID=UTC:20190312T193000
DTEND;TZID=UTC:20190312T203000
DTSTAMP:20260420T171101
CREATED:20180424T190946Z
LAST-MODIFIED:20180424T190946Z
UID:7556-1552419000-1552422600@www.fbcbeverly.org
SUMMARY:HNS Board Meeting
DESCRIPTION:
URL:https://www.fbcbeverly.org/event/hns-board-meeting-2-2019-03-11/
END:VEVENT
BEGIN:VEVENT
DTSTART;TZID=UTC:20190316T083000
DTEND;TZID=UTC:20190316T110000
DTSTAMP:20260420T171101
CREATED:20190301T145438Z
LAST-MODIFIED:20190301T145438Z
UID:12076-1552725000-1552734000@www.fbcbeverly.org
SUMMARY:Harborlight Nursery School Pancake Breakfast
DESCRIPTION:Hosted by Harborlight Nursery School\nDATE: Saturday\, March 16th\nTIME: 8:30am\nCOST: $5 a person\nCome in for a tasty Pancake Breakfast and enjoy some great raffles!
URL:https://www.fbcbeverly.org/event/harborlight-nursery-school-pancake-breakfast/
END:VEVENT
BEGIN:VEVENT
DTSTART;TZID=UTC:20190318T183000
DTEND;TZID=UTC:20190318T183000
DTSTAMP:20260420T171101
CREATED:20190301T145822Z
LAST-MODIFIED:20190301T145822Z
UID:12079-1552933800-1552933800@www.fbcbeverly.org
SUMMARY:Church Home
DESCRIPTION:
URL:https://www.fbcbeverly.org/event/church-home-3/
END:VEVENT
BEGIN:VEVENT
DTSTART;TZID=UTC:20190319T180000
DTEND;TZID=UTC:20190319T194500
DTSTAMP:20260420T171101
CREATED:20190301T144207Z
LAST-MODIFIED:20190301T144207Z
UID:12067-1553018400-1553024700@www.fbcbeverly.org
SUMMARY:Delightful Dinners – Church Family Dinners
DESCRIPTION:3rd Tuesday evening of each month from March to May: March 19\, April 16\, May 21st at First Baptist Church.\n\nAn opportunity for newer and longtime FBC participants to get acquainted in a fun and relaxed setting. A simple but delicious catered dinner will be provided\, served from 6 – 6:30 p.m. with a guided discussion following in small groups. Child care provided. A great way to meet wonderful people. On way home by 7:45 p.m.\n\nWatch for sign-ups on Facebook and at the Welcome Cafe on Sundays.
URL:https://www.fbcbeverly.org/event/delightful-dinners-church-family-dinners/
END:VEVENT
BEGIN:VEVENT
DTSTART;TZID=UTC:20190320T193000
DTEND;TZID=UTC:20190320T193000
DTSTAMP:20260420T171101
CREATED:20190301T145942Z
LAST-MODIFIED:20190301T145942Z
UID:12082-1553110200-1553110200@www.fbcbeverly.org
SUMMARY:Trustees of Endowment
DESCRIPTION:
URL:https://www.fbcbeverly.org/event/trustees-of-endowment-2/
END:VEVENT
BEGIN:VEVENT
DTSTART;TZID=UTC:20190324T112000
DTEND;TZID=UTC:20190324T112000
DTSTAMP:20260420T171101
CREATED:20190301T150650Z
LAST-MODIFIED:20190301T150650Z
UID:12086-1553426400-1553426400@www.fbcbeverly.org
SUMMARY:Women's Fellowship
DESCRIPTION:Women’s Fellowship will meet on Sunday\, March 24th for lunch and an afternoon at the Peabody Essex Museum.  We will enjoy a light\, catered lunch at noon in Wilbur Hall then head to Salem to ponder the relationship between art\, the environment and ourselves in the Nature’s Nation: American Art and Environment exhibition.  Cost of museum admission is $20\, or $18 for seniors.  Salem residents gain free admission.  Limited library passes and scholarships are available.  Please RSVP to Brenda at 978.979.2429 by Saturday\, March 23rd.  In your RSVP\, please indicate if you will be joining us for lunch and if you will need a ride to the PEM in the Church van.
URL:https://www.fbcbeverly.org/event/womens-fellowship-4/
END:VEVENT
BEGIN:VEVENT
DTSTART;TZID=UTC:20190324T112000
DTEND;TZID=UTC:20190324T121000
DTSTAMP:20260420T171101
CREATED:20190301T151904Z
LAST-MODIFIED:20190301T151904Z
UID:12094-1553426400-1553429400@www.fbcbeverly.org
SUMMARY:Faith Forum with Farmer Ben Zoba
DESCRIPTION:Faith Forum with Farmer Ben Zoba\, is March 24th 11:20 a.m. – 12:10 p.m. in the Chapel\nCome and learn and share during this forum with Ben Zoba\, an FBC member\, farmer\, and one of the founders of Beverly’s Garden School. Farmer Ben will reflect on how a farm/garden is a window into the heart of the Creator.
URL:https://www.fbcbeverly.org/event/faith-forum-with-farmer-ben-zoba/
END:VEVENT
BEGIN:VEVENT
DTSTART;TZID=UTC:20190328T160000
DTEND;TZID=UTC:20190328T160000
DTSTAMP:20260420T171101
CREATED:20190301T150141Z
LAST-MODIFIED:20190301T150141Z
UID:12084-1553788800-1553788800@www.fbcbeverly.org
SUMMARY:Food Project
DESCRIPTION:
URL:https://www.fbcbeverly.org/event/food-project/
END:VEVENT
BEGIN:VEVENT
DTSTART;TZID=UTC:20190329T140000
DTEND;TZID=UTC:20190329T140000
DTSTAMP:20260420T171101
CREATED:20190305T205840Z
LAST-MODIFIED:20190305T205840Z
UID:12157-1553868000-1553868000@www.fbcbeverly.org
SUMMARY:Book Group
DESCRIPTION:The Book Group will meet again on Friday\, March 29 to discuss the year-long bestseller “There There” by Tommy Orange. An enrolled member of the Cheyenne and Arapaho Tribes of Oklahoma\, Tommy Orange has been recognized as a new and original “voice” in contemporary literature\, and his debut novel became a bestseller rapidly by word of mouth. His book describes the lives of twelve Native Americans as they prepare to travel from various parts of the country to attend the Big Oakland Powwow. He gives voice to Native Americans who live in the cities and struggle to find an identity that encompasses their history as a people\, the urban struggles against addiction\, abuse and suicide\, and the beauty and spirituality of their ethnic traditions. Many readers have found this to be a remarkable and eye-opening novel.\nThe Book Group meets at 2 o’clock in the comfort of the church Lounge. New members are always welcome\, even for a single session to discuss one particular book.
URL:https://www.fbcbeverly.org/event/book-group-10/
END:VEVENT
BEGIN:VEVENT
DTSTART;TZID=UTC:20190329T180000
DTEND;TZID=UTC:20190329T180000
DTSTAMP:20260420T171101
CREATED:20190327T181113Z
LAST-MODIFIED:20190327T181113Z
UID:12367-1553882400-1553882400@www.fbcbeverly.org
SUMMARY:Harborlight Nursery School Family Night
DESCRIPTION:
URL:https://www.fbcbeverly.org/event/harborlight-nursery-school-family-night/
END:VEVENT
BEGIN:VEVENT
DTSTART;TZID=UTC:20190401T193000
DTEND;TZID=UTC:20190401T193000
DTSTAMP:20260420T171101
CREATED:20190401T225647Z
LAST-MODIFIED:20190401T225647Z
UID:12398-1554147000-1554147000@www.fbcbeverly.org
SUMMARY:Music Committee
DESCRIPTION:
URL:https://www.fbcbeverly.org/event/music-committee-6/
END:VEVENT
BEGIN:VEVENT
DTSTART;TZID=UTC:20190405T180000
DTEND;TZID=UTC:20190405T180000
DTSTAMP:20260420T171101
CREATED:20190325T232454Z
LAST-MODIFIED:20190325T232454Z
UID:12360-1554487200-1554487200@www.fbcbeverly.org
SUMMARY:Intergenerational Fun Night
DESCRIPTION:Join us for Intergenerational Fun Night @ FBC Gym \n\n\n\nApril 5th\, 6:00 -8:00 p.m. Pizza served from 6:00 -6:30 p.m. With fun mixer games for all ages to follow. Kin-ball Volley Ball and or\, bring a favorite board game to share. Invite a friend to share the evening with you and meet some great people!  (Mary include a kin-ball photo from earlier session)
URL:https://www.fbcbeverly.org/event/intergenerational-fun-night-2/
END:VEVENT
BEGIN:VEVENT
DTSTART;TZID=UTC:20190407T100000
DTEND;TZID=UTC:20190407T110000
DTSTAMP:20260420T171101
CREATED:20170621T184144Z
LAST-MODIFIED:20170621T184144Z
UID:8591-1554631200-1554634800@www.fbcbeverly.org
SUMMARY:Worship
DESCRIPTION:Join us each Sunday morning at 10:00 a.m. for worship in our Sanctuary!\nWe are a Welcoming and Affirming congregation where ALL are welcome!\nGathering together for times of worship offers us the opportunity to center ourselves in the midst of a busy world\, to renew our strength\, to respond to God’s loving and leading call to love the challenges before us. In worship\, we find strength in one another\, in our faith\, in the scripture\, and in our God. Our worship life is central to our experience as a community of faith and is a time in which all\, visitors and old friends alike\, are warmly welcomed. Come\, just as you are\, and be a part of the worship experience at First Baptist Church in Beverly.\nCome and enjoy thought-provoking preaching\, beautiful music\, and warmth of community as we worship God together!\nChild program provided.
URL:https://www.fbcbeverly.org/event/worship-2-2017-09-24-2018-06-10-2019-04-07/
END:VEVENT
BEGIN:VEVENT
DTSTART;TZID=UTC:20190408T190000
DTEND;TZID=UTC:20190408T190000
DTSTAMP:20260420T171101
CREATED:20190401T230032Z
LAST-MODIFIED:20190401T230032Z
UID:12401-1554750000-1554750000@www.fbcbeverly.org
SUMMARY:Social Concerns
DESCRIPTION:
URL:https://www.fbcbeverly.org/event/social-concerns-3/
END:VEVENT
BEGIN:VEVENT
DTSTART;TZID=UTC:20190409T190000
DTEND;TZID=UTC:20190409T190000
DTSTAMP:20260420T171101
CREATED:20190401T230156Z
LAST-MODIFIED:20190401T230156Z
UID:12403-1554836400-1554836400@www.fbcbeverly.org
SUMMARY:Staff Administration Meeting
DESCRIPTION:
URL:https://www.fbcbeverly.org/event/staff-administration-meeting-5/
END:VEVENT
END:VCALENDAR