BEGIN:VCALENDAR
VERSION:2.0
PRODID:-//First Baptist Church Beverly - ECPv6.15.20//NONSGML v1.0//EN
CALSCALE:GREGORIAN
METHOD:PUBLISH
X-WR-CALNAME:First Baptist Church Beverly
X-ORIGINAL-URL:https://www.fbcbeverly.org
X-WR-CALDESC:Events for First Baptist Church Beverly
REFRESH-INTERVAL;VALUE=DURATION:PT1H
X-Robots-Tag:noindex
X-PUBLISHED-TTL:PT1H
BEGIN:VTIMEZONE
TZID:UTC
BEGIN:STANDARD
TZOFFSETFROM:+0000
TZOFFSETTO:+0000
TZNAME:UTC
DTSTART:20250101T000000
END:STANDARD
END:VTIMEZONE
BEGIN:VEVENT
DTSTART;TZID=UTC:20260305T193000
DTEND;TZID=UTC:20260305T203000
DTSTAMP:20260420T204054
CREATED:20161031T194009Z
LAST-MODIFIED:20161031T194009Z
UID:27010-1772739000-1772742600@www.fbcbeverly.org
SUMMARY:Sanctuary Choir
DESCRIPTION:The Sanctuary Vocal Choir meets weekly with Music Director Dr. Esther Chang for rehearsal in the Music Room\, and sings weekly in worship throughout the regular program year (September through June). Please contact Esther with questions or for more information.
URL:https://www.fbcbeverly.org/event/sanctuary-choir-2026-03-05/
END:VEVENT
BEGIN:VEVENT
DTSTART;TZID=UTC:20260305T180000
DTEND;TZID=UTC:20260305T190000
DTSTAMP:20260420T204054
CREATED:20170406T192545Z
LAST-MODIFIED:20170406T192545Z
UID:27011-1772733600-1772737200@www.fbcbeverly.org
SUMMARY:Bell Choirs
DESCRIPTION:The handbell choir(s) rehearse on Thursday evenings\, from 6:00 p.m. – 7:00 p.m. in the Chapel. Contact our Music Director\, Dr. Esther Chang for more information.
URL:https://www.fbcbeverly.org/event/celebration-ringers-2-2026-03-05/
END:VEVENT
BEGIN:VEVENT
DTSTART;TZID=UTC:20260305T100000
DTEND;TZID=UTC:20260305T110000
DTSTAMP:20260420T204054
CREATED:20250827T133721Z
LAST-MODIFIED:20250827T133721Z
UID:29145-1772704800-1772708400@www.fbcbeverly.org
SUMMARY:Zoom Coffee Hour
DESCRIPTION:Come and gather around the virtual table on Thursday at 10:00 am for a time of connection\, laughter\, reflection\, fellowship\, and sharing! There is always room for more to gather\, so come and pull up a chair with us!
URL:https://www.fbcbeverly.org/event/zoom-coffee-hour-4-2026-03-05/
END:VEVENT
BEGIN:VEVENT
DTSTART;TZID=UTC:20260303T200000
DTEND;TZID=UTC:20260303T200000
DTSTAMP:20260420T204054
CREATED:20260224T200507Z
LAST-MODIFIED:20260224T200507Z
UID:29758-1772568000-1772568000@www.fbcbeverly.org
SUMMARY:Theology On Tap
DESCRIPTION:
URL:https://www.fbcbeverly.org/event/theology-on-tap-25/
END:VEVENT
BEGIN:VEVENT
DTSTART;TZID=UTC:20260303T093000
DTEND;TZID=UTC:20260303T120000
DTSTAMP:20260420T204054
CREATED:20161031T184810Z
LAST-MODIFIED:20161031T184810Z
UID:26991-1772530200-1772539200@www.fbcbeverly.org
SUMMARY:Staff Meeting
DESCRIPTION:Our ministerial staff and leadership team meet weekly to ensure that communication is strong and that all aspects of the life and needs of the church are being attended to appropriately.
URL:https://www.fbcbeverly.org/event/staff-meeting-2-2026-03-03/
END:VEVENT
BEGIN:VEVENT
DTSTART;TZID=UTC:20260302T190000
DTEND;TZID=UTC:20260302T190000
DTSTAMP:20260420T204054
CREATED:20250602T165443Z
LAST-MODIFIED:20250602T165443Z
UID:29002-1772478000-1772478000@www.fbcbeverly.org
SUMMARY:Pickleball
DESCRIPTION:7 o’clock in the FBC Gym!
URL:https://www.fbcbeverly.org/event/pickleball-33-2026-03-02/
END:VEVENT
BEGIN:VEVENT
DTSTART;TZID=UTC:20260302T180000
DTEND;TZID=UTC:20260302T200000
DTSTAMP:20260420T204054
CREATED:20170925T220024Z
LAST-MODIFIED:20170925T220024Z
UID:26989-1772474400-1772481600@www.fbcbeverly.org
SUMMARY:Monday Night Supper
DESCRIPTION:A meal will be served to anybody who needs it.
URL:https://www.fbcbeverly.org/event/monday-night-supper-2-2026-03-02/
END:VEVENT
BEGIN:VEVENT
DTSTART;TZID=UTC:20260301T150000
DTEND;TZID=UTC:20260301T150000
DTSTAMP:20260420T204054
CREATED:20260121T152953Z
LAST-MODIFIED:20260121T161929Z
UID:29718-1772377200-1772377200@www.fbcbeverly.org
SUMMARY:Service of Ordination for Dr. Daniel Johnson followed by a Celebration Dinner in Wilbur Hall
DESCRIPTION:
URL:https://www.fbcbeverly.org/event/service-of-ordination-fo-dr-daniel-johnson-followed-baby-celebration-dinner-in-wilbur-hall/
END:VEVENT
BEGIN:VEVENT
DTSTART;TZID=UTC:20260301T110000
DTEND;TZID=UTC:20260301T110000
DTSTAMP:20260420T204054
CREATED:20230208T133612Z
LAST-MODIFIED:20230208T133612Z
UID:29326-1772362800-1772362800@www.fbcbeverly.org
SUMMARY:Worship Ensemble Rehearsal
DESCRIPTION:Worship Ensemble music group will rehearse immediately following worship.
URL:https://www.fbcbeverly.org/event/worship-ensemble-music-group-rehearsal-2023-10-01-2024-06-02-2026-03-01/
END:VEVENT
BEGIN:VEVENT
DTSTART;TZID=UTC:20260301T100000
DTEND;TZID=UTC:20260301T110000
DTSTAMP:20260420T204054
CREATED:20260113T160908Z
LAST-MODIFIED:20260113T160908Z
UID:29689-1772359200-1772362800@www.fbcbeverly.org
SUMMARY:Worship Service
DESCRIPTION:Join us for Worship on Sundays at the First Baptist Church in Beverly either in person or via our YouTube Livestream\, starting at 10:00 am!  The first Sunday of the month is Communion Sunday as you can see noted on our calendar.  Every Sunday we post our most recent worship services to our website page and have them highlighted on YouTube as well\, in case you can’t make it and would like to watch at your convenience.  Shalom and thanks for being here!
URL:https://www.fbcbeverly.org/event/worship-service-55/
END:VEVENT
BEGIN:VEVENT
DTSTART;VALUE=DATE:20260301
DTEND;VALUE=DATE:20260302
DTSTAMP:20260420T204054
CREATED:20230927T013232Z
LAST-MODIFIED:20230927T013232Z
UID:29497-1772323200-1772409599@www.fbcbeverly.org
SUMMARY:Communion Sunday
DESCRIPTION:
URL:https://www.fbcbeverly.org/event/communion-sunday-2-2026-03-01/
END:VEVENT
BEGIN:VEVENT
DTSTART;TZID=UTC:20260228T123000
DTEND;TZID=UTC:20260228T123000
DTSTAMP:20260420T204054
CREATED:20260113T163411Z
LAST-MODIFIED:20260113T163411Z
UID:29704-1772281800-1772281800@www.fbcbeverly.org
SUMMARY:Saturday Lunch Program
DESCRIPTION:A meal will be served to anybody who needs it.
URL:https://www.fbcbeverly.org/event/saturday-lunch-program-9/
END:VEVENT
BEGIN:VEVENT
DTSTART;TZID=UTC:20260227T150000
DTEND;TZID=UTC:20260227T160000
DTSTAMP:20260420T204054
CREATED:20250903T143844Z
LAST-MODIFIED:20260130T162139Z
UID:29217-1772204400-1772208000@www.fbcbeverly.org
SUMMARY:Lectio Divina
DESCRIPTION:Join us in person or via Zoom at https://us02web.zoom.us/j/87637952236?pwd=cXY0cHB3QncxOEY4Y2FlUWVzb1pBUT09!
URL:https://www.fbcbeverly.org/event/lectio-divina-13-2026-02-27/
END:VEVENT
BEGIN:VEVENT
DTSTART;TZID=UTC:20260226T193000
DTEND;TZID=UTC:20260226T203000
DTSTAMP:20260420T204054
CREATED:20161031T194009Z
LAST-MODIFIED:20161031T194009Z
UID:26975-1772134200-1772137800@www.fbcbeverly.org
SUMMARY:Sanctuary Choir
DESCRIPTION:The Sanctuary Vocal Choir meets weekly with Music Director Dr. Esther Chang for rehearsal in the Music Room\, and sings weekly in worship throughout the regular program year (September through June). Please contact Esther with questions or for more information.
URL:https://www.fbcbeverly.org/event/sanctuary-choir-2026-02-26/
END:VEVENT
BEGIN:VEVENT
DTSTART;TZID=UTC:20260226T180000
DTEND;TZID=UTC:20260226T190000
DTSTAMP:20260420T204054
CREATED:20170406T192545Z
LAST-MODIFIED:20170406T192545Z
UID:26976-1772128800-1772132400@www.fbcbeverly.org
SUMMARY:Bell Choirs
DESCRIPTION:The handbell choir(s) rehearse on Thursday evenings\, from 6:00 p.m. – 7:00 p.m. in the Chapel. Contact our Music Director\, Dr. Esther Chang for more information.
URL:https://www.fbcbeverly.org/event/celebration-ringers-2-2026-02-26/
END:VEVENT
BEGIN:VEVENT
DTSTART;TZID=UTC:20260226T100000
DTEND;TZID=UTC:20260226T110000
DTSTAMP:20260420T204054
CREATED:20250827T133721Z
LAST-MODIFIED:20250827T133721Z
UID:29144-1772100000-1772103600@www.fbcbeverly.org
SUMMARY:Zoom Coffee Hour
DESCRIPTION:Come and gather around the virtual table on Thursday at 10:00 am for a time of connection\, laughter\, reflection\, fellowship\, and sharing! There is always room for more to gather\, so come and pull up a chair with us!
URL:https://www.fbcbeverly.org/event/zoom-coffee-hour-4-2026-02-26/
END:VEVENT
BEGIN:VEVENT
DTSTART;TZID=UTC:20260224T190000
DTEND;TZID=UTC:20260224T200000
DTSTAMP:20260420T204054
CREATED:20170715T132748Z
LAST-MODIFIED:20170715T132748Z
UID:26966-1771959600-1771963200@www.fbcbeverly.org
SUMMARY:Deacons Meeting
DESCRIPTION:
URL:https://www.fbcbeverly.org/event/deacons-meeting-2026-02-24/
END:VEVENT
BEGIN:VEVENT
DTSTART;TZID=UTC:20260224T093000
DTEND;TZID=UTC:20260224T120000
DTSTAMP:20260420T204054
CREATED:20161031T184810Z
LAST-MODIFIED:20161031T184810Z
UID:26967-1771925400-1771934400@www.fbcbeverly.org
SUMMARY:Staff Meeting
DESCRIPTION:Our ministerial staff and leadership team meet weekly to ensure that communication is strong and that all aspects of the life and needs of the church are being attended to appropriately.
URL:https://www.fbcbeverly.org/event/staff-meeting-2-2026-02-24/
END:VEVENT
BEGIN:VEVENT
DTSTART;TZID=UTC:20260224T070000
DTEND;TZID=UTC:20260224T070000
DTSTAMP:20260420T204054
CREATED:20260113T164921Z
LAST-MODIFIED:20260210T130414Z
UID:29707-1771916400-1771916400@www.fbcbeverly.org
SUMMARY:FBC "T4" Men's Fellowship Breakfast at Stephy's this month!
DESCRIPTION:
URL:https://www.fbcbeverly.org/event/fbc-t3-mens-fellowship-breakfast-2/
END:VEVENT
BEGIN:VEVENT
DTSTART;VALUE=DATE:20260223
DTEND;VALUE=DATE:20260224
DTSTAMP:20260420T204054
CREATED:20260223T150017Z
LAST-MODIFIED:20260223T150017Z
UID:29754-1771804800-1771891199@www.fbcbeverly.org
SUMMARY:Church & Church Office CLOSED due to Blizzard
DESCRIPTION:
URL:https://www.fbcbeverly.org/event/church-church-office-closed-due-to-blizzard/
END:VEVENT
BEGIN:VEVENT
DTSTART;TZID=UTC:20260222T180000
DTEND;TZID=UTC:20260222T210000
DTSTAMP:20260420T204054
CREATED:20250814T002222Z
LAST-MODIFIED:20250814T002222Z
UID:29077-1771783200-1771794000@www.fbcbeverly.org
SUMMARY:Senior High Fellowship
DESCRIPTION:
URL:https://www.fbcbeverly.org/event/senior-high-fellowship-2-2026-02-22/
END:VEVENT
BEGIN:VEVENT
DTSTART;TZID=UTC:20260222T160000
DTEND;TZID=UTC:20260222T180000
DTSTAMP:20260420T204054
CREATED:20250814T002120Z
LAST-MODIFIED:20250814T002120Z
UID:29039-1771776000-1771783200@www.fbcbeverly.org
SUMMARY:Middle School Fellowship
DESCRIPTION:
URL:https://www.fbcbeverly.org/event/middle-school-fellowship-3-2026-02-22/
END:VEVENT
BEGIN:VEVENT
DTSTART;TZID=UTC:20260222T113000
DTEND;TZID=UTC:20260222T123000
DTSTAMP:20260420T204054
CREATED:20250903T144639Z
LAST-MODIFIED:20250909T183709Z
UID:29265-1771759800-1771763400@www.fbcbeverly.org
SUMMARY:Word Searchers
DESCRIPTION:
URL:https://www.fbcbeverly.org/event/word-searchers-11-2026-02-22/
END:VEVENT
BEGIN:VEVENT
DTSTART;TZID=UTC:20260222T113000
DTEND;TZID=UTC:20260222T113000
DTSTAMP:20260420T204054
CREATED:20250903T144236Z
LAST-MODIFIED:20250903T144236Z
UID:29297-1771759800-1771759800@www.fbcbeverly.org
SUMMARY:Prayer Shawl Meets
DESCRIPTION:
URL:https://www.fbcbeverly.org/event/prayer-shawl-meets-2026-02-22/
END:VEVENT
BEGIN:VEVENT
DTSTART;TZID=UTC:20260222T110000
DTEND;TZID=UTC:20260222T110000
DTSTAMP:20260420T204054
CREATED:20230208T133612Z
LAST-MODIFIED:20230208T133612Z
UID:29325-1771758000-1771758000@www.fbcbeverly.org
SUMMARY:Worship Ensemble Rehearsal
DESCRIPTION:Worship Ensemble music group will rehearse immediately following worship.
URL:https://www.fbcbeverly.org/event/worship-ensemble-music-group-rehearsal-2023-10-01-2024-06-02-2026-02-22/
END:VEVENT
BEGIN:VEVENT
DTSTART;TZID=UTC:20260222T100000
DTEND;TZID=UTC:20260222T110000
DTSTAMP:20260420T204054
CREATED:20260113T160835Z
LAST-MODIFIED:20260113T160835Z
UID:29688-1771754400-1771758000@www.fbcbeverly.org
SUMMARY:Worship Service
DESCRIPTION:Join us for Worship on Sundays at the First Baptist Church in Beverly either in person or via our YouTube Livestream\, starting at 10:00 am!  The first Sunday of the month is Communion Sunday as you can see noted on our calendar.  Every Sunday we post our most recent worship services to our website page and have them highlighted on YouTube as well\, in case you can’t make it and would like to watch at your convenience.  Shalom and thanks for being here!
URL:https://www.fbcbeverly.org/event/worship-service-54/
END:VEVENT
BEGIN:VEVENT
DTSTART;TZID=UTC:20260221T123000
DTEND;TZID=UTC:20260221T123000
DTSTAMP:20260420T204054
CREATED:20260113T163344Z
LAST-MODIFIED:20260113T163344Z
UID:29703-1771677000-1771677000@www.fbcbeverly.org
SUMMARY:Saturday Lunch Program
DESCRIPTION:A meal will be served to anybody who needs it.
URL:https://www.fbcbeverly.org/event/saturday-lunch-program-8/
END:VEVENT
BEGIN:VEVENT
DTSTART;TZID=UTC:20260220T193000
DTEND;TZID=UTC:20260220T213000
DTSTAMP:20260420T204054
CREATED:20251007T142735Z
LAST-MODIFIED:20251007T142735Z
UID:29530-1771615800-1771623000@www.fbcbeverly.org
SUMMARY:The + Club Meets
DESCRIPTION:
URL:https://www.fbcbeverly.org/event/the-club-meets-6-2026-02-20/
END:VEVENT
BEGIN:VEVENT
DTSTART;TZID=UTC:20260220T150000
DTEND;TZID=UTC:20260220T160000
DTSTAMP:20260420T204055
CREATED:20250903T143844Z
LAST-MODIFIED:20260130T161949Z
UID:29216-1771599600-1771603200@www.fbcbeverly.org
SUMMARY:Lectio Divina
DESCRIPTION:Join us in person or via Zoom at https://us02web.zoom.us/j/87637952236?pwd=cXY0cHB3QncxOEY4Y2FlUWVzb1pBUT09!
URL:https://www.fbcbeverly.org/event/lectio-divina-13-2026-02-20/
END:VEVENT
BEGIN:VEVENT
DTSTART;TZID=UTC:20260219T193000
DTEND;TZID=UTC:20260219T203000
DTSTAMP:20260420T204055
CREATED:20161031T194009Z
LAST-MODIFIED:20161031T194009Z
UID:26954-1771529400-1771533000@www.fbcbeverly.org
SUMMARY:Sanctuary Choir
DESCRIPTION:The Sanctuary Vocal Choir meets weekly with Music Director Dr. Esther Chang for rehearsal in the Music Room\, and sings weekly in worship throughout the regular program year (September through June). Please contact Esther with questions or for more information.
URL:https://www.fbcbeverly.org/event/sanctuary-choir-2026-02-19/
END:VEVENT
END:VCALENDAR