BEGIN:VCALENDAR
VERSION:2.0
PRODID:-//First Baptist Church Beverly - ECPv6.15.20//NONSGML v1.0//EN
CALSCALE:GREGORIAN
METHOD:PUBLISH
X-WR-CALNAME:First Baptist Church Beverly
X-ORIGINAL-URL:https://www.fbcbeverly.org
X-WR-CALDESC:Events for First Baptist Church Beverly
REFRESH-INTERVAL;VALUE=DURATION:PT1H
X-Robots-Tag:noindex
X-PUBLISHED-TTL:PT1H
BEGIN:VTIMEZONE
TZID:UTC
BEGIN:STANDARD
TZOFFSETFROM:+0000
TZOFFSETTO:+0000
TZNAME:UTC
DTSTART:20220101T000000
END:STANDARD
END:VTIMEZONE
BEGIN:VEVENT
DTSTART;TZID=UTC:20231029T113000
DTEND;TZID=UTC:20231029T113000
DTSTAMP:20260420T140553
CREATED:20230920T011428Z
LAST-MODIFIED:20230920T011428Z
UID:26218-1698579000-1698579000@www.fbcbeverly.org
SUMMARY:Church Council Meeting
DESCRIPTION:Church Council meeting immediately following worship today!
URL:https://www.fbcbeverly.org/event/church-council-meeting-11/
END:VEVENT
BEGIN:VEVENT
DTSTART;TZID=UTC:20231028T123000
DTEND;TZID=UTC:20231028T133000
DTSTAMP:20260420T140553
CREATED:20231025T015152Z
LAST-MODIFIED:20240117T024414Z
UID:26501-1698496200-1698499800@www.fbcbeverly.org
SUMMARY:Lunch Program
DESCRIPTION:
URL:https://www.fbcbeverly.org/event/lunch-program-3/
END:VEVENT
BEGIN:VEVENT
DTSTART;TZID=UTC:20231026T160000
DTEND;TZID=UTC:20231026T180000
DTSTAMP:20260420T140553
CREATED:20230817T103103Z
LAST-MODIFIED:20230817T103103Z
UID:26029-1698336000-1698343200@www.fbcbeverly.org
SUMMARY:Beverly's Downtown Trick-or-Treat
DESCRIPTION:
URL:https://www.fbcbeverly.org/event/beverlys-downtown-trick-or-treat/
END:VEVENT
BEGIN:VEVENT
DTSTART;TZID=UTC:20231025T190000
DTEND;TZID=UTC:20231025T190000
DTSTAMP:20260420T140553
CREATED:20231005T130330Z
LAST-MODIFIED:20231005T130330Z
UID:26384-1698260400-1698260400@www.fbcbeverly.org
SUMMARY:The Cabot Community Conversation re: Gun Control & What We All Can Do
DESCRIPTION:
URL:https://www.fbcbeverly.org/event/the-cabot-community-conversation-re-gun-control-what-we-all-can-do/
END:VEVENT
BEGIN:VEVENT
DTSTART;TZID=UTC:20231022T113000
DTEND;TZID=UTC:20231022T120000
DTSTAMP:20260420T140553
CREATED:20231011T020823Z
LAST-MODIFIED:20231011T020823Z
UID:26445-1697974200-1697976000@www.fbcbeverly.org
SUMMARY:FBC's Children's Choir w/Dr. Esther Chang Rehearses
DESCRIPTION:
URL:https://www.fbcbeverly.org/event/fbcs-childrens-choir-w-dr-esther-chang-rehearses/
END:VEVENT
BEGIN:VEVENT
DTSTART;TZID=UTC:20231022T113000
DTEND;TZID=UTC:20231022T113000
DTSTAMP:20260420T140553
CREATED:20231011T021351Z
LAST-MODIFIED:20231011T021351Z
UID:26450-1697974200-1697974200@www.fbcbeverly.org
SUMMARY:Holy Sustainability!: Demystifying Heat Pumps
DESCRIPTION:Following Worship on October 22nd at 11:30 am\, FBC will hold the first of six Church Forum events in partnering with Green Beverly. This week will kick off our first installment and feature Paul McCormick as the main presenter.
URL:https://www.fbcbeverly.org/event/holy-sustainability-demystifying-heat-pumps/
END:VEVENT
BEGIN:VEVENT
DTSTART;VALUE=DATE:20231020
DTEND;VALUE=DATE:20231023
DTSTAMP:20260420T140553
CREATED:20230909T103945Z
LAST-MODIFIED:20230909T103945Z
UID:26181-1697760000-1698019199@www.fbcbeverly.org
SUMMARY:Senior High Fellowship Fall Retreat
DESCRIPTION:
URL:https://www.fbcbeverly.org/event/senior-high-fellowship-fall-retreat-3/
END:VEVENT
BEGIN:VEVENT
DTSTART;TZID=UTC:20231017T180000
DTEND;TZID=UTC:20231017T193000
DTSTAMP:20260420T140553
CREATED:20231011T020031Z
LAST-MODIFIED:20231011T020031Z
UID:26438-1697565600-1697571000@www.fbcbeverly.org
SUMMARY:Delightful Dinner- You're Invited!
DESCRIPTION:
URL:https://www.fbcbeverly.org/event/delightful-dinner-youre-invited/
END:VEVENT
BEGIN:VEVENT
DTSTART;TZID=UTC:20231015T080000
DTEND;TZID=UTC:20231015T130000
DTSTAMP:20260420T140553
CREATED:20231011T020518Z
LAST-MODIFIED:20231011T020518Z
UID:26441-1697356800-1697374800@www.fbcbeverly.org
SUMMARY:#Bloodforbob: American Red Cross Blood Drive
DESCRIPTION:
URL:https://www.fbcbeverly.org/event/bloodforbob-american-red-cross-blood-drive/
END:VEVENT
BEGIN:VEVENT
DTSTART;TZID=UTC:20231014T190000
DTEND;TZID=UTC:20231014T190000
DTSTAMP:20260420T140553
CREATED:20231011T015900Z
LAST-MODIFIED:20231011T015900Z
UID:26436-1697310000-1697310000@www.fbcbeverly.org
SUMMARY:FBC Craft Night!
DESCRIPTION:
URL:https://www.fbcbeverly.org/event/fbc-craft-night/
END:VEVENT
BEGIN:VEVENT
DTSTART;TZID=UTC:20231013T180000
DTEND;TZID=UTC:20231013T203000
DTSTAMP:20260420T140553
CREATED:20230610T174048Z
LAST-MODIFIED:20230815T190456Z
UID:25643-1697220000-1697229000@www.fbcbeverly.org
SUMMARY:*FIRST* PNO Back!
DESCRIPTION:
URL:https://www.fbcbeverly.org/event/first-pno-back/
END:VEVENT
BEGIN:VEVENT
DTSTART;TZID=UTC:20231012T180000
DTEND;TZID=UTC:20231012T210000
DTSTAMP:20260420T140553
CREATED:20230627T112714Z
LAST-MODIFIED:20231011T020259Z
UID:25852-1697133600-1697144400@www.fbcbeverly.org
SUMMARY:Harborlight Homes Annual Celebration!
DESCRIPTION:
URL:https://www.fbcbeverly.org/event/harborlight-homes-annual-celebration/
END:VEVENT
BEGIN:VEVENT
DTSTART;VALUE=DATE:20231009
DTEND;VALUE=DATE:20231010
DTSTAMP:20260420T140553
CREATED:20230817T103206Z
LAST-MODIFIED:20230817T103206Z
UID:26030-1696809600-1696895999@www.fbcbeverly.org
SUMMARY:Church Office is Closed
DESCRIPTION:
URL:https://www.fbcbeverly.org/event/church-office-is-closed-5/
END:VEVENT
BEGIN:VEVENT
DTSTART;TZID=UTC:20231008T113000
DTEND;TZID=UTC:20231008T123000
DTSTAMP:20260420T140553
CREATED:20231007T184714Z
LAST-MODIFIED:20231007T184714Z
UID:26395-1696764600-1696768200@www.fbcbeverly.org
SUMMARY:Word Searchers Adult Bible Study
DESCRIPTION:
URL:https://www.fbcbeverly.org/event/word-searchers-adult-bible-study/
END:VEVENT
BEGIN:VEVENT
DTSTART;TZID=UTC:20231005T180000
DTEND;TZID=UTC:20231005T190000
DTSTAMP:20260420T140553
CREATED:20231005T164227Z
LAST-MODIFIED:20231005T164227Z
UID:26386-1696528800-1696532400@www.fbcbeverly.org
SUMMARY:Free Narcan Training Event
DESCRIPTION:
URL:https://www.fbcbeverly.org/event/free-narcan-training-event/
END:VEVENT
BEGIN:VEVENT
DTSTART;TZID=UTC:20231001T100000
DTEND;TZID=UTC:20231001T110000
DTSTAMP:20260420T140553
CREATED:20230826T141150Z
LAST-MODIFIED:20230826T141213Z
UID:26142-1696154400-1696158000@www.fbcbeverly.org
SUMMARY:Service Trip Sunday!
DESCRIPTION:Join us for a special Worship Service led by members of the Service Trip Group who went to North Carolina this past summer\, and hear firsthand as they share their stories and learnings!
URL:https://www.fbcbeverly.org/event/service-trip-sunday/
END:VEVENT
BEGIN:VEVENT
DTSTART;VALUE=DATE:20231001
DTEND;VALUE=DATE:20231002
DTSTAMP:20260420T140553
CREATED:20230927T013232Z
LAST-MODIFIED:20251030T155809Z
UID:26259-1696118400-1696204799@www.fbcbeverly.org
SUMMARY:Communion Sunday
DESCRIPTION:
URL:https://www.fbcbeverly.org/event/communion-sunday-2/
END:VEVENT
BEGIN:VEVENT
DTSTART;TZID=UTC:20230925T190000
DTEND;TZID=UTC:20230925T190000
DTSTAMP:20260420T140553
CREATED:20221018T110445Z
LAST-MODIFIED:20231002T170011Z
UID:25694-1695668400-1695668400@www.fbcbeverly.org
SUMMARY:Pickleball
DESCRIPTION:Every Monday night in the gym at 7:00 pm is Pickleball! \n 
URL:https://www.fbcbeverly.org/event/pickleball-2023-1-2-2023-09-25/
END:VEVENT
BEGIN:VEVENT
DTSTART;TZID=UTC:20230925T183000
DTEND;TZID=UTC:20230925T193000
DTSTAMP:20260420T140553
CREATED:20230817T125703Z
LAST-MODIFIED:20230817T125703Z
UID:26101-1695666600-1695670200@www.fbcbeverly.org
SUMMARY:Missions Committee Meeting
DESCRIPTION:
URL:https://www.fbcbeverly.org/event/missions-committee-meeting-2/
END:VEVENT
BEGIN:VEVENT
DTSTART;TZID=UTC:20230925T183000
DTEND;TZID=UTC:20230925T183000
DTSTAMP:20260420T140553
CREATED:20230817T101323Z
LAST-MODIFIED:20230817T101323Z
UID:25988-1695666600-1695666600@www.fbcbeverly.org
SUMMARY:Church Home Committee Meeting
DESCRIPTION:
URL:https://www.fbcbeverly.org/event/church-home-committee-meeting/
END:VEVENT
BEGIN:VEVENT
DTSTART;TZID=UTC:20230924T100000
DTEND;TZID=UTC:20230924T100000
DTSTAMP:20260420T140553
CREATED:20230906T185848Z
LAST-MODIFIED:20230906T185848Z
UID:26171-1695549600-1695549600@www.fbcbeverly.org
SUMMARY:Worship Ensemble Performs
DESCRIPTION:
URL:https://www.fbcbeverly.org/event/worship-ensemble-performs/
END:VEVENT
BEGIN:VEVENT
DTSTART;TZID=UTC:20230924T083000
DTEND;TZID=UTC:20230924T083000
DTSTAMP:20260420T140553
CREATED:20230906T185734Z
LAST-MODIFIED:20230906T185734Z
UID:26170-1695544200-1695544200@www.fbcbeverly.org
SUMMARY:Breakfast at FBC
DESCRIPTION:
URL:https://www.fbcbeverly.org/event/breakfast-at-fbc/
END:VEVENT
BEGIN:VEVENT
DTSTART;VALUE=DATE:20230924
DTEND;VALUE=DATE:20230925
DTSTAMP:20260420T140553
CREATED:20230817T100733Z
LAST-MODIFIED:20230817T100733Z
UID:25986-1695513600-1695599999@www.fbcbeverly.org
SUMMARY:Rally Day!
DESCRIPTION:
URL:https://www.fbcbeverly.org/event/rally-day-3/
END:VEVENT
BEGIN:VEVENT
DTSTART;TZID=UTC:20230919T190000
DTEND;TZID=UTC:20230919T190000
DTSTAMP:20260420T140553
CREATED:20230906T190240Z
LAST-MODIFIED:20230906T190240Z
UID:26174-1695150000-1695150000@www.fbcbeverly.org
SUMMARY:The Cabot Community Conversations: Understanding the Substance Use Conversation
DESCRIPTION:
URL:https://www.fbcbeverly.org/event/the-cabot-community-conversations-understanding-the-substance-use-conversation/
END:VEVENT
BEGIN:VEVENT
DTSTART;TZID=UTC:20230919T070000
DTEND;TZID=UTC:20230919T080000
DTSTAMP:20260420T140553
CREATED:20230906T185948Z
LAST-MODIFIED:20230906T185948Z
UID:26173-1695106800-1695110400@www.fbcbeverly.org
SUMMARY:Men's Breakfast
DESCRIPTION:
URL:https://www.fbcbeverly.org/event/mens-breakfast/
END:VEVENT
BEGIN:VEVENT
DTSTART;TZID=UTC:20230917T113000
DTEND;TZID=UTC:20230917T163000
DTSTAMP:20260420T140553
CREATED:20230614T000325Z
LAST-MODIFIED:20230826T140858Z
UID:25812-1694950200-1694968200@www.fbcbeverly.org
SUMMARY:Fellowship Kickoff Event @ Chebacco Lake!
DESCRIPTION:Middle School and Senior High Fellowship Groups will head outdoors to the Blanchard’s Camp to kick-off what will be another year for the books of FBC Fellowship!
URL:https://www.fbcbeverly.org/event/fellowship-kickoff-event/
END:VEVENT
BEGIN:VEVENT
DTSTART;TZID=UTC:20230914T100000
DTEND;TZID=UTC:20230914T100000
DTSTAMP:20260420T140553
CREATED:20230907T133316Z
LAST-MODIFIED:20230907T133316Z
UID:26177-1694685600-1694685600@www.fbcbeverly.org
SUMMARY:HCP Ribbon Cutting
DESCRIPTION:
URL:https://www.fbcbeverly.org/event/hcp-ribbon-cutting/
END:VEVENT
BEGIN:VEVENT
DTSTART;TZID=UTC:20230912T190000
DTEND;TZID=UTC:20230912T190000
DTSTAMP:20260420T140553
CREATED:20220824T021420Z
LAST-MODIFIED:20240507T140232Z
UID:24296-1694545200-1694545200@www.fbcbeverly.org
SUMMARY:Harborlight Nursery School
DESCRIPTION:
URL:https://www.fbcbeverly.org/event/harborlight-nursery-school-virtual-meeting-2023-05-09/
END:VEVENT
BEGIN:VEVENT
DTSTART;TZID=UTC:20230911T160000
DTEND;TZID=UTC:20230911T170000
DTSTAMP:20260420T140553
CREATED:20230906T185922Z
LAST-MODIFIED:20230906T185922Z
UID:26172-1694448000-1694451600@www.fbcbeverly.org
SUMMARY:Lay Visitation Meeting
DESCRIPTION:
URL:https://www.fbcbeverly.org/event/lay-visitation-meeting-2/
END:VEVENT
BEGIN:VEVENT
DTSTART;TZID=UTC:20230910T111500
DTEND;TZID=UTC:20230910T111500
DTSTAMP:20260420T140553
CREATED:20230610T173943Z
LAST-MODIFIED:20230826T140755Z
UID:25642-1694344500-1694344500@www.fbcbeverly.org
SUMMARY:All-Church Outdoor Party at the field by Hannah School
DESCRIPTION:
URL:https://www.fbcbeverly.org/event/all-church-outdoor-party/
END:VEVENT
END:VCALENDAR