BEGIN:VCALENDAR
VERSION:2.0
PRODID:-//First Baptist Church Beverly - ECPv6.15.20//NONSGML v1.0//EN
CALSCALE:GREGORIAN
METHOD:PUBLISH
X-WR-CALNAME:First Baptist Church Beverly
X-ORIGINAL-URL:https://www.fbcbeverly.org
X-WR-CALDESC:Events for First Baptist Church Beverly
REFRESH-INTERVAL;VALUE=DURATION:PT1H
X-Robots-Tag:noindex
X-PUBLISHED-TTL:PT1H
BEGIN:VTIMEZONE
TZID:UTC
BEGIN:STANDARD
TZOFFSETFROM:+0000
TZOFFSETTO:+0000
TZNAME:UTC
DTSTART:20250101T000000
END:STANDARD
END:VTIMEZONE
BEGIN:VEVENT
DTSTART;TZID=UTC:20260414T093000
DTEND;TZID=UTC:20260414T120000
DTSTAMP:20260420T125052
CREATED:20161031T184810Z
LAST-MODIFIED:20161031T184810Z
UID:27146-1776159000-1776168000@www.fbcbeverly.org
SUMMARY:Staff Meeting
DESCRIPTION:Our ministerial staff and leadership team meet weekly to ensure that communication is strong and that all aspects of the life and needs of the church are being attended to appropriately.
URL:https://www.fbcbeverly.org/event/staff-meeting-2-2026-04-14/
END:VEVENT
END:VCALENDAR