BEGIN:VCALENDAR
VERSION:2.0
PRODID:-//First Baptist Church Beverly - ECPv6.15.20//NONSGML v1.0//EN
CALSCALE:GREGORIAN
METHOD:PUBLISH
X-WR-CALNAME:First Baptist Church Beverly
X-ORIGINAL-URL:https://www.fbcbeverly.org
X-WR-CALDESC:Events for First Baptist Church Beverly
REFRESH-INTERVAL;VALUE=DURATION:PT1H
X-Robots-Tag:noindex
X-PUBLISHED-TTL:PT1H
BEGIN:VTIMEZONE
TZID:UTC
BEGIN:STANDARD
TZOFFSETFROM:+0000
TZOFFSETTO:+0000
TZNAME:UTC
DTSTART:20250101T000000
END:STANDARD
END:VTIMEZONE
BEGIN:VEVENT
DTSTART;TZID=UTC:20260413T113000
DTEND;TZID=UTC:20260413T113000
DTSTAMP:20260425T115259
CREATED:20260323T152856Z
LAST-MODIFIED:20260323T152856Z
UID:29815-1776079800-1776079800@www.fbcbeverly.org
SUMMARY:Wit & Wisdom Book Group
DESCRIPTION:
URL:https://www.fbcbeverly.org/event/wit-wisdom-book-group-3/
END:VEVENT
BEGIN:VEVENT
DTSTART;TZID=UTC:20260413T160000
DTEND;TZID=UTC:20260413T160000
DTSTAMP:20260425T115259
CREATED:20161031T185828Z
LAST-MODIFIED:20260407T141112Z
UID:26946-1776096000-1776096000@www.fbcbeverly.org
SUMMARY:Lay Visitation Committee
DESCRIPTION:First Baptist’s Lay Visitation Ministry Team provides a ministry of visitation\, caring\, listening\, prayer\, and comfort to the church family and the wider community. This group meets monthly\, on the second Monday of each month\, for training\, reflection\, sharing\, and to receive new ministry assignments. New members are always welcome to the Team.
URL:https://www.fbcbeverly.org/event/lay-visitation-ministry-2017-08-01-2022-10-18-2026-02-17/
END:VEVENT
BEGIN:VEVENT
DTSTART;TZID=UTC:20260413T180000
DTEND;TZID=UTC:20260413T200000
DTSTAMP:20260425T115259
CREATED:20170925T220024Z
LAST-MODIFIED:20170925T220024Z
UID:27144-1776103200-1776110400@www.fbcbeverly.org
SUMMARY:Monday Night Supper
DESCRIPTION:A meal will be served to anybody who needs it.
URL:https://www.fbcbeverly.org/event/monday-night-supper-2-2026-04-13/
END:VEVENT
BEGIN:VEVENT
DTSTART;TZID=UTC:20260413T190000
DTEND;TZID=UTC:20260413T190000
DTSTAMP:20260425T115259
CREATED:20250602T165443Z
LAST-MODIFIED:20250602T165443Z
UID:29008-1776106800-1776106800@www.fbcbeverly.org
SUMMARY:Pickleball
DESCRIPTION:7 o’clock in the FBC Gym!
URL:https://www.fbcbeverly.org/event/pickleball-33-2026-04-13/
END:VEVENT
END:VCALENDAR