BEGIN:VCALENDAR
VERSION:2.0
PRODID:-//First Baptist Church Beverly - ECPv6.15.20//NONSGML v1.0//EN
CALSCALE:GREGORIAN
METHOD:PUBLISH
X-WR-CALNAME:First Baptist Church Beverly
X-ORIGINAL-URL:https://www.fbcbeverly.org
X-WR-CALDESC:Events for First Baptist Church Beverly
REFRESH-INTERVAL;VALUE=DURATION:PT1H
X-Robots-Tag:noindex
X-PUBLISHED-TTL:PT1H
BEGIN:VTIMEZONE
TZID:UTC
BEGIN:STANDARD
TZOFFSETFROM:+0000
TZOFFSETTO:+0000
TZNAME:UTC
DTSTART:20250101T000000
END:STANDARD
END:VTIMEZONE
BEGIN:VEVENT
DTSTART;VALUE=DATE:20260410
DTEND;VALUE=DATE:20260413
DTSTAMP:20260425T134856
CREATED:20260203T142747Z
LAST-MODIFIED:20260203T142747Z
UID:29728-1775779200-1776038399@www.fbcbeverly.org
SUMMARY:Middle School Fellowship Retreat!
DESCRIPTION:
URL:https://www.fbcbeverly.org/event/middle-school-fellowship-retreat-2/
END:VEVENT
BEGIN:VEVENT
DTSTART;VALUE=DATE:20260412
DTEND;VALUE=DATE:20260413
DTSTAMP:20260425T134856
CREATED:20230927T013232Z
LAST-MODIFIED:20260324T154220Z
UID:29514-1775952000-1776038399@www.fbcbeverly.org
SUMMARY:Communion Sunday
DESCRIPTION:
URL:https://www.fbcbeverly.org/event/communion-sunday-2-2026-04-05-2/
END:VEVENT
BEGIN:VEVENT
DTSTART;TZID=UTC:20260412T110000
DTEND;TZID=UTC:20260412T110000
DTSTAMP:20260425T134856
CREATED:20230208T133612Z
LAST-MODIFIED:20230208T133612Z
UID:29332-1775991600-1775991600@www.fbcbeverly.org
SUMMARY:Worship Ensemble Rehearsal
DESCRIPTION:Worship Ensemble music group will rehearse immediately following worship.
URL:https://www.fbcbeverly.org/event/worship-ensemble-music-group-rehearsal-2023-10-01-2024-06-02-2026-04-12/
END:VEVENT
BEGIN:VEVENT
DTSTART;TZID=UTC:20260412T113000
DTEND;TZID=UTC:20260412T123000
DTSTAMP:20260425T134856
CREATED:20250903T144639Z
LAST-MODIFIED:20250909T183710Z
UID:29272-1775993400-1775997000@www.fbcbeverly.org
SUMMARY:Word Searchers
DESCRIPTION:
URL:https://www.fbcbeverly.org/event/word-searchers-11-2026-04-12/
END:VEVENT
BEGIN:VEVENT
DTSTART;TZID=UTC:20260412T130000
DTEND;TZID=UTC:20260412T130000
DTSTAMP:20260425T134856
CREATED:20250814T002222Z
LAST-MODIFIED:20260407T143223Z
UID:29084-1775998800-1775998800@www.fbcbeverly.org
SUMMARY:Senior High Fellowship
DESCRIPTION:
URL:https://www.fbcbeverly.org/event/senior-high-fellowship-2-2026-04-12/
END:VEVENT
END:VCALENDAR