BEGIN:VCALENDAR
VERSION:2.0
PRODID:-//First Baptist Church Beverly - ECPv6.15.20//NONSGML v1.0//EN
CALSCALE:GREGORIAN
METHOD:PUBLISH
X-WR-CALNAME:First Baptist Church Beverly
X-ORIGINAL-URL:https://www.fbcbeverly.org
X-WR-CALDESC:Events for First Baptist Church Beverly
REFRESH-INTERVAL;VALUE=DURATION:PT1H
X-Robots-Tag:noindex
X-PUBLISHED-TTL:PT1H
BEGIN:VTIMEZONE
TZID:UTC
BEGIN:STANDARD
TZOFFSETFROM:+0000
TZOFFSETTO:+0000
TZNAME:UTC
DTSTART:20250101T000000
END:STANDARD
END:VTIMEZONE
BEGIN:VEVENT
DTSTART;TZID=UTC:20260320T150000
DTEND;TZID=UTC:20260320T160000
DTSTAMP:20260420T184748
CREATED:20250903T143844Z
LAST-MODIFIED:20260130T162330Z
UID:29220-1774018800-1774022400@www.fbcbeverly.org
SUMMARY:Lectio Divina
DESCRIPTION:Join us in person or via Zoom at https://us02web.zoom.us/j/87637952236?pwd=cXY0cHB3QncxOEY4Y2FlUWVzb1pBUT09!
URL:https://www.fbcbeverly.org/event/lectio-divina-13-2026-03-20/
END:VEVENT
END:VCALENDAR