BEGIN:VCALENDAR
VERSION:2.0
PRODID:-//First Baptist Church Beverly - ECPv6.15.20//NONSGML v1.0//EN
CALSCALE:GREGORIAN
METHOD:PUBLISH
X-ORIGINAL-URL:https://www.fbcbeverly.org
X-WR-CALDESC:Events for First Baptist Church Beverly
REFRESH-INTERVAL;VALUE=DURATION:PT1H
X-Robots-Tag:noindex
X-PUBLISHED-TTL:PT1H
BEGIN:VTIMEZONE
TZID:UTC
BEGIN:STANDARD
TZOFFSETFROM:+0000
TZOFFSETTO:+0000
TZNAME:UTC
DTSTART:20240101T000000
END:STANDARD
END:VTIMEZONE
BEGIN:VEVENT
DTSTART;TZID=UTC:20250224T113000
DTEND;TZID=UTC:20250224T113000
DTSTAMP:20260420T104236
CREATED:20250206T104838Z
LAST-MODIFIED:20250206T104838Z
UID:28025-1740396600-1740396600@www.fbcbeverly.org
SUMMARY:Senior Group Monthly Luncheon
DESCRIPTION:
URL:https://www.fbcbeverly.org/event/senior-group-monthly-luncheon/
END:VEVENT
BEGIN:VEVENT
DTSTART;TZID=UTC:20250224T180000
DTEND;TZID=UTC:20250224T200000
DTSTAMP:20260420T104236
CREATED:20170925T220024Z
LAST-MODIFIED:20170925T220024Z
UID:25111-1740420000-1740427200@www.fbcbeverly.org
SUMMARY:Monday Night Supper
DESCRIPTION:A meal will be served to anybody who needs it.
URL:https://www.fbcbeverly.org/event/monday-night-supper-2-2025-02-24/
END:VEVENT
BEGIN:VEVENT
DTSTART;TZID=UTC:20250224T190000
DTEND;TZID=UTC:20250224T190000
DTSTAMP:20260420T104236
CREATED:20250204T115854Z
LAST-MODIFIED:20250204T115854Z
UID:27991-1740423600-1740423600@www.fbcbeverly.org
SUMMARY:Pickleball
DESCRIPTION:7 o’clock in the FBC Gym! \n 
URL:https://www.fbcbeverly.org/event/pickleball-20/
END:VEVENT
BEGIN:VEVENT
DTSTART;TZID=UTC:20250224T190000
DTEND;TZID=UTC:20250224T190000
DTSTAMP:20260420T104236
CREATED:20250206T105046Z
LAST-MODIFIED:20250206T105046Z
UID:28027-1740423600-1740423600@www.fbcbeverly.org
SUMMARY:Missions & Social Concerns Meeting (MiSC)
DESCRIPTION:
URL:https://www.fbcbeverly.org/event/missions-social-concerns-meeting-misc-4/
END:VEVENT
END:VCALENDAR