BEGIN:VCALENDAR
VERSION:2.0
PRODID:-//First Baptist Church Beverly - ECPv6.15.20//NONSGML v1.0//EN
CALSCALE:GREGORIAN
METHOD:PUBLISH
X-ORIGINAL-URL:https://www.fbcbeverly.org
X-WR-CALDESC:Events for First Baptist Church Beverly
REFRESH-INTERVAL;VALUE=DURATION:PT1H
X-Robots-Tag:noindex
X-PUBLISHED-TTL:PT1H
BEGIN:VTIMEZONE
TZID:UTC
BEGIN:STANDARD
TZOFFSETFROM:+0000
TZOFFSETTO:+0000
TZNAME:UTC
DTSTART:20230101T000000
END:STANDARD
END:VTIMEZONE
BEGIN:VEVENT
DTSTART;TZID=UTC:20240607T180000
DTEND;TZID=UTC:20240607T203000
DTSTAMP:20260420T153258
CREATED:20240522T114813Z
LAST-MODIFIED:20240522T114813Z
UID:27264-1717783200-1717792200@www.fbcbeverly.org
SUMMARY:Last PNO of the school year!
DESCRIPTION:
URL:https://www.fbcbeverly.org/event/last-pno-of-the-school-year/
END:VEVENT
END:VCALENDAR