BEGIN:VCALENDAR
VERSION:2.0
PRODID:-//First Baptist Church Beverly - ECPv6.15.20//NONSGML v1.0//EN
CALSCALE:GREGORIAN
METHOD:PUBLISH
X-WR-CALNAME:First Baptist Church Beverly
X-ORIGINAL-URL:https://www.fbcbeverly.org
X-WR-CALDESC:Events for First Baptist Church Beverly
REFRESH-INTERVAL;VALUE=DURATION:PT1H
X-Robots-Tag:noindex
X-PUBLISHED-TTL:PT1H
BEGIN:VTIMEZONE
TZID:UTC
BEGIN:STANDARD
TZOFFSETFROM:+0000
TZOFFSETTO:+0000
TZNAME:UTC
DTSTART:20230101T000000
END:STANDARD
END:VTIMEZONE
BEGIN:VEVENT
DTSTART;VALUE=DATE:20240602
DTEND;VALUE=DATE:20240603
DTSTAMP:20260420T154020
CREATED:20230927T013232Z
LAST-MODIFIED:20251030T155827Z
UID:26561-1717286400-1717372799@www.fbcbeverly.org
SUMMARY:Communion Sunday
DESCRIPTION:
URL:https://www.fbcbeverly.org/event/communion-sunday-2-2024-06-02/
END:VEVENT
BEGIN:VEVENT
DTSTART;TZID=UTC:20240602T100000
DTEND;TZID=UTC:20240602T110000
DTSTAMP:20260420T154020
CREATED:20230612T103728Z
LAST-MODIFIED:20230612T103728Z
UID:25772-1717322400-1717326000@www.fbcbeverly.org
SUMMARY:Worship Service
DESCRIPTION:Join us for Worship on Sundays at the First Baptist Church in Beverly either in person or via our YouTube Livestream\, starting at 10:00 am!  The first Sunday of the month is Communion Sunday as you can see noted on our calendar.  Every Sunday we post our most recent worship services to our website page and have them highlighted on YouTube as well\, in case you can’t make it and would like to watch at your convenience.  Shalom and thanks for being here!
URL:https://www.fbcbeverly.org/event/worship-service-2024-06-02/
END:VEVENT
BEGIN:VEVENT
DTSTART;TZID=UTC:20240602T133000
DTEND;TZID=UTC:20240602T163000
DTSTAMP:20260420T154020
CREATED:20220409T034258Z
LAST-MODIFIED:20240523T144152Z
UID:25201-1717335000-1717345800@www.fbcbeverly.org
SUMMARY:Senior High Fellowship
DESCRIPTION:Meeting at a special earlier time to attend Beverly High School’s Graduation.
URL:https://www.fbcbeverly.org/event/senior-high-fellowship-2-2023-03-05-2024-06-02/
END:VEVENT
BEGIN:VEVENT
DTSTART;TZID=UTC:20240602T161500
DTEND;TZID=UTC:20240602T171500
DTSTAMP:20260420T154020
CREATED:20240523T144340Z
LAST-MODIFIED:20240523T144340Z
UID:27272-1717344900-1717348500@www.fbcbeverly.org
SUMMARY:Inquiry Class
DESCRIPTION:
URL:https://www.fbcbeverly.org/event/inquiry-class-2-2024-06-02/
END:VEVENT
END:VCALENDAR