BEGIN:VCALENDAR
VERSION:2.0
PRODID:-//First Baptist Church Beverly - ECPv6.15.20//NONSGML v1.0//EN
CALSCALE:GREGORIAN
METHOD:PUBLISH
X-WR-CALNAME:First Baptist Church Beverly
X-ORIGINAL-URL:https://www.fbcbeverly.org
X-WR-CALDESC:Events for First Baptist Church Beverly
REFRESH-INTERVAL;VALUE=DURATION:PT1H
X-Robots-Tag:noindex
X-PUBLISHED-TTL:PT1H
BEGIN:VTIMEZONE
TZID:UTC
BEGIN:STANDARD
TZOFFSETFROM:+0000
TZOFFSETTO:+0000
TZNAME:UTC
DTSTART:20230101T000000
END:STANDARD
END:VTIMEZONE
BEGIN:VEVENT
DTSTART;TZID=UTC:20240529T190000
DTEND;TZID=UTC:20240529T210000
DTSTAMP:20260419T145530
CREATED:20230817T115111Z
LAST-MODIFIED:20240506T173604Z
UID:26100-1717009200-1717016400@www.fbcbeverly.org
SUMMARY:FBC's Annual Meeting
DESCRIPTION:Located in the Chapel.
URL:https://www.fbcbeverly.org/event/fbcs-annual-meeting/
END:VEVENT
END:VCALENDAR